BEGIN:VCALENDAR
VERSION:2.0
PRODID:-//Central Baptist Church of Jamestown - ECPv6.15.17//NONSGML v1.0//EN
CALSCALE:GREGORIAN
METHOD:PUBLISH
X-WR-CALNAME:Central Baptist Church of Jamestown
X-ORIGINAL-URL:https://www.cbchurchjtn.org
X-WR-CALDESC:Events for Central Baptist Church of Jamestown
REFRESH-INTERVAL;VALUE=DURATION:PT1H
X-Robots-Tag:noindex
X-PUBLISHED-TTL:PT1H
BEGIN:VTIMEZONE
TZID:America/New_York
BEGIN:DAYLIGHT
TZOFFSETFROM:-0500
TZOFFSETTO:-0400
TZNAME:EDT
DTSTART:20240310T070000
END:DAYLIGHT
BEGIN:STANDARD
TZOFFSETFROM:-0400
TZOFFSETTO:-0500
TZNAME:EST
DTSTART:20241103T060000
END:STANDARD
BEGIN:DAYLIGHT
TZOFFSETFROM:-0500
TZOFFSETTO:-0400
TZNAME:EDT
DTSTART:20250309T070000
END:DAYLIGHT
BEGIN:STANDARD
TZOFFSETFROM:-0400
TZOFFSETTO:-0500
TZNAME:EST
DTSTART:20251102T060000
END:STANDARD
BEGIN:DAYLIGHT
TZOFFSETFROM:-0500
TZOFFSETTO:-0400
TZNAME:EDT
DTSTART:20260308T070000
END:DAYLIGHT
BEGIN:STANDARD
TZOFFSETFROM:-0400
TZOFFSETTO:-0500
TZNAME:EST
DTSTART:20261101T060000
END:STANDARD
BEGIN:DAYLIGHT
TZOFFSETFROM:-0500
TZOFFSETTO:-0400
TZNAME:EDT
DTSTART:20270314T070000
END:DAYLIGHT
BEGIN:STANDARD
TZOFFSETFROM:-0400
TZOFFSETTO:-0500
TZNAME:EST
DTSTART:20271107T060000
END:STANDARD
END:VTIMEZONE
BEGIN:VEVENT
DTSTART;TZID=America/New_York:20260119T130000
DTEND;TZID=America/New_York:20260119T140000
DTSTAMP:20260423T005212
CREATED:20251112T172416Z
LAST-MODIFIED:20251112T172416Z
UID:1676-1768827600-1768831200@www.cbchurchjtn.org
SUMMARY:Chair Yoga
DESCRIPTION:
URL:https://www.cbchurchjtn.org/event/chair-yoga-37/
END:VEVENT
BEGIN:VEVENT
DTSTART;TZID=America/New_York:20260118T093000
DTEND;TZID=America/New_York:20260118T103000
DTSTAMP:20260423T005212
CREATED:20251112T170212Z
LAST-MODIFIED:20251112T170212Z
UID:1648-1768728600-1768732200@www.cbchurchjtn.org
SUMMARY:Worship Service
DESCRIPTION:
URL:https://www.cbchurchjtn.org/event/worship-service-38/
END:VEVENT
BEGIN:VEVENT
DTSTART;TZID=America/New_York:20260115T083000
DTEND;TZID=America/New_York:20260115T093000
DTSTAMP:20260423T005212
CREATED:20251112T173847Z
LAST-MODIFIED:20251112T173847Z
UID:1702-1768465800-1768469400@www.cbchurchjtn.org
SUMMARY:Exercise with Us
DESCRIPTION:
URL:https://www.cbchurchjtn.org/event/exercise-with-us-77/
END:VEVENT
BEGIN:VEVENT
DTSTART;TZID=America/New_York:20260113T083000
DTEND;TZID=America/New_York:20260113T093000
DTSTAMP:20260423T005212
CREATED:20251112T173159Z
LAST-MODIFIED:20251112T173159Z
UID:1690-1768293000-1768296600@www.cbchurchjtn.org
SUMMARY:Exercise with Us
DESCRIPTION:
URL:https://www.cbchurchjtn.org/event/exercise-with-us-71/
END:VEVENT
BEGIN:VEVENT
DTSTART;TZID=America/New_York:20260112T130000
DTEND;TZID=America/New_York:20260112T140000
DTSTAMP:20260423T005212
CREATED:20251112T172346Z
LAST-MODIFIED:20251112T172346Z
UID:1674-1768222800-1768226400@www.cbchurchjtn.org
SUMMARY:Chair Yoga
DESCRIPTION:
URL:https://www.cbchurchjtn.org/event/chair-yoga-36/
END:VEVENT
BEGIN:VEVENT
DTSTART;TZID=America/New_York:20260111T093000
DTEND;TZID=America/New_York:20260111T103000
DTSTAMP:20260423T005212
CREATED:20251112T170142Z
LAST-MODIFIED:20251112T170142Z
UID:1646-1768123800-1768127400@www.cbchurchjtn.org
SUMMARY:Worship Service
DESCRIPTION:
URL:https://www.cbchurchjtn.org/event/worship-service-37/
END:VEVENT
BEGIN:VEVENT
DTSTART;TZID=America/New_York:20260108T083000
DTEND;TZID=America/New_York:20260108T093000
DTSTAMP:20260423T005212
CREATED:20251112T173827Z
LAST-MODIFIED:20251112T173827Z
UID:1700-1767861000-1767864600@www.cbchurchjtn.org
SUMMARY:Exercise with Us
DESCRIPTION:
URL:https://www.cbchurchjtn.org/event/exercise-with-us-76/
END:VEVENT
BEGIN:VEVENT
DTSTART;TZID=America/New_York:20260106T083000
DTEND;TZID=America/New_York:20260106T093000
DTSTAMP:20260423T005212
CREATED:20251112T173119Z
LAST-MODIFIED:20251112T173240Z
UID:1688-1767688200-1767691800@www.cbchurchjtn.org
SUMMARY:Exercise with Us
DESCRIPTION:
URL:https://www.cbchurchjtn.org/event/exercise-with-us-70/
END:VEVENT
BEGIN:VEVENT
DTSTART;TZID=America/New_York:20260105T130000
DTEND;TZID=America/New_York:20260105T140000
DTSTAMP:20260423T005212
CREATED:20251112T172324Z
LAST-MODIFIED:20251112T172324Z
UID:1672-1767618000-1767621600@www.cbchurchjtn.org
SUMMARY:Chair Yoga
DESCRIPTION:
URL:https://www.cbchurchjtn.org/event/chair-yoga-35/
END:VEVENT
BEGIN:VEVENT
DTSTART;TZID=America/New_York:20260104T093000
DTEND;TZID=America/New_York:20260104T103000
DTSTAMP:20260423T005212
CREATED:20251112T170111Z
LAST-MODIFIED:20251208T170641Z
UID:1644-1767519000-1767522600@www.cbchurchjtn.org
SUMMARY:Worship Service
DESCRIPTION:
URL:https://www.cbchurchjtn.org/event/worship-service-36/
END:VEVENT
BEGIN:VEVENT
DTSTART;TZID=America/New_York:20251230T083000
DTEND;TZID=America/New_York:20251230T093000
DTSTAMP:20260423T005212
CREATED:20251112T172837Z
LAST-MODIFIED:20251112T172837Z
UID:1684-1767083400-1767087000@www.cbchurchjtn.org
SUMMARY:Exercise with Us
DESCRIPTION:
URL:https://www.cbchurchjtn.org/event/exercise-with-us-69/
END:VEVENT
BEGIN:VEVENT
DTSTART;TZID=America/New_York:20251229T190000
DTEND;TZID=America/New_York:20251229T210000
DTSTAMP:20260423T005212
CREATED:20251112T184053Z
LAST-MODIFIED:20251112T184053Z
UID:1727-1767034800-1767042000@www.cbchurchjtn.org
SUMMARY:Jamestown Community Chorus Rehearsal
DESCRIPTION:
URL:https://www.cbchurchjtn.org/event/jamestown-community-chorus-rehearsal-9/
END:VEVENT
BEGIN:VEVENT
DTSTART;TZID=America/New_York:20251229T130000
DTEND;TZID=America/New_York:20251229T140000
DTSTAMP:20260423T005212
CREATED:20251112T171521Z
LAST-MODIFIED:20251112T172253Z
UID:1670-1767013200-1767016800@www.cbchurchjtn.org
SUMMARY:Chair Yoga
DESCRIPTION:
URL:https://www.cbchurchjtn.org/event/chair-yoga-31/
END:VEVENT
BEGIN:VEVENT
DTSTART;TZID=America/New_York:20251228T103000
DTEND;TZID=America/New_York:20251228T113000
DTSTAMP:20260423T005212
CREATED:20251112T171008Z
LAST-MODIFIED:20251112T171008Z
UID:1657-1766917800-1766921400@www.cbchurchjtn.org
SUMMARY:Coffee Hour
DESCRIPTION:
URL:https://www.cbchurchjtn.org/event/coffee-hour-36/
END:VEVENT
BEGIN:VEVENT
DTSTART;TZID=America/New_York:20251228T093000
DTEND;TZID=America/New_York:20251228T103000
DTSTAMP:20260423T005212
CREATED:20251112T170030Z
LAST-MODIFIED:20251112T170030Z
UID:1642-1766914200-1766917800@www.cbchurchjtn.org
SUMMARY:Worship Service
DESCRIPTION:
URL:https://www.cbchurchjtn.org/event/worship-service-35/
END:VEVENT
BEGIN:VEVENT
DTSTART;TZID=America/New_York:20251224T170000
DTEND;TZID=America/New_York:20251224T180000
DTSTAMP:20260423T005212
CREATED:20251222T172334Z
LAST-MODIFIED:20251222T172334Z
UID:1786-1766595600-1766599200@www.cbchurchjtn.org
SUMMARY:Christmas Eve Service
DESCRIPTION:
URL:https://www.cbchurchjtn.org/event/christmas-eve-service/
END:VEVENT
BEGIN:VEVENT
DTSTART;TZID=America/New_York:20251222T190000
DTEND;TZID=America/New_York:20251222T210000
DTSTAMP:20260423T005212
CREATED:20251112T184025Z
LAST-MODIFIED:20251112T184025Z
UID:1725-1766430000-1766437200@www.cbchurchjtn.org
SUMMARY:Jamestown Community Chorus Rehearsal
DESCRIPTION:
URL:https://www.cbchurchjtn.org/event/jamestown-community-chorus-rehearsal-8/
END:VEVENT
BEGIN:VEVENT
DTSTART;TZID=America/New_York:20251222T130000
DTEND;TZID=America/New_York:20251222T140000
DTSTAMP:20260423T005212
CREATED:20251112T171413Z
LAST-MODIFIED:20251112T171413Z
UID:1668-1766408400-1766412000@www.cbchurchjtn.org
SUMMARY:Chair Yoga
DESCRIPTION:
URL:https://www.cbchurchjtn.org/event/chair-yoga-34/
END:VEVENT
BEGIN:VEVENT
DTSTART;TZID=America/New_York:20251221T103000
DTEND;TZID=America/New_York:20251221T113000
DTSTAMP:20260423T005212
CREATED:20251112T170945Z
LAST-MODIFIED:20251112T170945Z
UID:1655-1766313000-1766316600@www.cbchurchjtn.org
SUMMARY:Coffee Hour
DESCRIPTION:
URL:https://www.cbchurchjtn.org/event/coffee-hour-35/
END:VEVENT
BEGIN:VEVENT
DTSTART;TZID=America/New_York:20251221T093000
DTEND;TZID=America/New_York:20251221T103000
DTSTAMP:20260423T005212
CREATED:20251112T170000Z
LAST-MODIFIED:20251112T170000Z
UID:1640-1766309400-1766313000@www.cbchurchjtn.org
SUMMARY:Worship Service
DESCRIPTION:
URL:https://www.cbchurchjtn.org/event/worship-service-34/
END:VEVENT
BEGIN:VEVENT
DTSTART;TZID=America/New_York:20251218T083000
DTEND;TZID=America/New_York:20251218T093000
DTSTAMP:20260423T005212
CREATED:20251112T173744Z
LAST-MODIFIED:20251112T173744Z
UID:1698-1766046600-1766050200@www.cbchurchjtn.org
SUMMARY:Exercise with Us
DESCRIPTION:
URL:https://www.cbchurchjtn.org/event/exercise-with-us-75/
END:VEVENT
BEGIN:VEVENT
DTSTART;TZID=America/New_York:20251216T083000
DTEND;TZID=America/New_York:20251216T093000
DTSTAMP:20260423T005212
CREATED:20251112T173052Z
LAST-MODIFIED:20251112T173052Z
UID:1686-1765873800-1765877400@www.cbchurchjtn.org
SUMMARY:Exercise with Us
DESCRIPTION:
URL:https://www.cbchurchjtn.org/event/exercise-with-us-68/
END:VEVENT
BEGIN:VEVENT
DTSTART;TZID=America/New_York:20251215T190000
DTEND;TZID=America/New_York:20251215T210000
DTSTAMP:20260423T005212
CREATED:20251112T184002Z
LAST-MODIFIED:20251112T184002Z
UID:1723-1765825200-1765832400@www.cbchurchjtn.org
SUMMARY:Jamestown Community Chorus Rehearsal
DESCRIPTION:
URL:https://www.cbchurchjtn.org/event/jamestown-community-chorus-rehearsal-6/
END:VEVENT
BEGIN:VEVENT
DTSTART;TZID=America/New_York:20251215T130000
DTEND;TZID=America/New_York:20251215T140000
DTSTAMP:20260423T005212
CREATED:20251112T171327Z
LAST-MODIFIED:20251112T171327Z
UID:1666-1765803600-1765807200@www.cbchurchjtn.org
SUMMARY:Chair Yoga
DESCRIPTION:
URL:https://www.cbchurchjtn.org/event/chair-yoga-33/
END:VEVENT
BEGIN:VEVENT
DTSTART;TZID=America/New_York:20251214T103000
DTEND;TZID=America/New_York:20251214T113000
DTSTAMP:20260423T005212
CREATED:20251112T170918Z
LAST-MODIFIED:20251112T170918Z
UID:1653-1765708200-1765711800@www.cbchurchjtn.org
SUMMARY:Coffee Hour
DESCRIPTION:
URL:https://www.cbchurchjtn.org/event/coffee-hour-34/
END:VEVENT
BEGIN:VEVENT
DTSTART;TZID=America/New_York:20251214T093000
DTEND;TZID=America/New_York:20251214T103000
DTSTAMP:20260423T005212
CREATED:20251112T165842Z
LAST-MODIFIED:20251112T165842Z
UID:1638-1765704600-1765708200@www.cbchurchjtn.org
SUMMARY:Worship Service
DESCRIPTION:
URL:https://www.cbchurchjtn.org/event/worship-service-33/
END:VEVENT
BEGIN:VEVENT
DTSTART;TZID=America/New_York:20251211T083000
DTEND;TZID=America/New_York:20251211T093000
DTSTAMP:20260423T005212
CREATED:20251112T173721Z
LAST-MODIFIED:20251112T173721Z
UID:1696-1765441800-1765445400@www.cbchurchjtn.org
SUMMARY:Exercise with Us
DESCRIPTION:
URL:https://www.cbchurchjtn.org/event/exercise-with-us-74/
END:VEVENT
BEGIN:VEVENT
DTSTART;TZID=America/New_York:20251210T190000
DTEND;TZID=America/New_York:20251210T203000
DTSTAMP:20260423T005212
CREATED:20251112T180619Z
LAST-MODIFIED:20251112T180619Z
UID:1710-1765393200-1765398600@www.cbchurchjtn.org
SUMMARY:Accidental Sisters Rehearsals
DESCRIPTION:
URL:https://www.cbchurchjtn.org/event/accidental-sisters-rehearsals-10/
END:VEVENT
BEGIN:VEVENT
DTSTART;TZID=America/New_York:20251210T140000
DTEND;TZID=America/New_York:20251210T160000
DTSTAMP:20260423T005212
CREATED:20251119T180012Z
LAST-MODIFIED:20251119T180012Z
UID:1751-1765375200-1765382400@www.cbchurchjtn.org
SUMMARY:Trustee Meeting
DESCRIPTION:
URL:https://www.cbchurchjtn.org/event/trustee-meeting-6/
END:VEVENT
BEGIN:VEVENT
DTSTART;TZID=America/New_York:20251210T100000
DTEND;TZID=America/New_York:20251210T110000
DTSTAMP:20260423T005212
CREATED:20251119T175911Z
LAST-MODIFIED:20251208T170737Z
UID:1749-1765360800-1765364400@www.cbchurchjtn.org
SUMMARY:Deacon Meeting
DESCRIPTION:
URL:https://www.cbchurchjtn.org/event/deacon-meeting-3/
END:VEVENT
END:VCALENDAR