BEGIN:VCALENDAR
VERSION:2.0
PRODID:-//Central Baptist Church of Jamestown - ECPv6.15.17//NONSGML v1.0//EN
CALSCALE:GREGORIAN
METHOD:PUBLISH
X-WR-CALNAME:Central Baptist Church of Jamestown
X-ORIGINAL-URL:https://www.cbchurchjtn.org
X-WR-CALDESC:Events for Central Baptist Church of Jamestown
REFRESH-INTERVAL;VALUE=DURATION:PT1H
X-Robots-Tag:noindex
X-PUBLISHED-TTL:PT1H
BEGIN:VTIMEZONE
TZID:America/New_York
BEGIN:DAYLIGHT
TZOFFSETFROM:-0500
TZOFFSETTO:-0400
TZNAME:EDT
DTSTART:20240310T070000
END:DAYLIGHT
BEGIN:STANDARD
TZOFFSETFROM:-0400
TZOFFSETTO:-0500
TZNAME:EST
DTSTART:20241103T060000
END:STANDARD
BEGIN:DAYLIGHT
TZOFFSETFROM:-0500
TZOFFSETTO:-0400
TZNAME:EDT
DTSTART:20250309T070000
END:DAYLIGHT
BEGIN:STANDARD
TZOFFSETFROM:-0400
TZOFFSETTO:-0500
TZNAME:EST
DTSTART:20251102T060000
END:STANDARD
BEGIN:DAYLIGHT
TZOFFSETFROM:-0500
TZOFFSETTO:-0400
TZNAME:EDT
DTSTART:20260308T070000
END:DAYLIGHT
BEGIN:STANDARD
TZOFFSETFROM:-0400
TZOFFSETTO:-0500
TZNAME:EST
DTSTART:20261101T060000
END:STANDARD
END:VTIMEZONE
BEGIN:VEVENT
DTSTART;TZID=America/New_York:20251120T083000
DTEND;TZID=America/New_York:20251120T093000
DTSTAMP:20260423T035947
CREATED:20251020T170854Z
LAST-MODIFIED:20251020T170854Z
UID:1578-1763627400-1763631000@www.cbchurchjtn.org
SUMMARY:Exercise with Us
DESCRIPTION:
URL:https://www.cbchurchjtn.org/event/exercise-with-us-65/
END:VEVENT
BEGIN:VEVENT
DTSTART;TZID=America/New_York:20251119T190000
DTEND;TZID=America/New_York:20251119T203000
DTSTAMP:20260423T035947
CREATED:20251020T173538Z
LAST-MODIFIED:20251020T174624Z
UID:1586-1763578800-1763584200@www.cbchurchjtn.org
SUMMARY:Accidental Sisters Rehearsals
DESCRIPTION:
URL:https://www.cbchurchjtn.org/event/accidental-sisters-rehearsals-8/
END:VEVENT
BEGIN:VEVENT
DTSTART;TZID=America/New_York:20251118T133000
DTEND;TZID=America/New_York:20251118T143000
DTSTAMP:20260423T035947
CREATED:20251027T173215Z
LAST-MODIFIED:20251027T173215Z
UID:1613-1763472600-1763476200@www.cbchurchjtn.org
SUMMARY:Christian Ed Meeting
DESCRIPTION:
URL:https://www.cbchurchjtn.org/event/christian-ed-meeting/
END:VEVENT
BEGIN:VEVENT
DTSTART;TZID=America/New_York:20251118T083000
DTEND;TZID=America/New_York:20251118T093000
DTSTAMP:20260423T035947
CREATED:20251020T170501Z
LAST-MODIFIED:20251020T170501Z
UID:1570-1763454600-1763458200@www.cbchurchjtn.org
SUMMARY:Exercise with Us
DESCRIPTION:
URL:https://www.cbchurchjtn.org/event/exercise-with-us-61/
END:VEVENT
BEGIN:VEVENT
DTSTART;TZID=America/New_York:20251117T190000
DTEND;TZID=America/New_York:20251117T210000
DTSTAMP:20260423T035947
CREATED:20251027T163533Z
LAST-MODIFIED:20251027T163533Z
UID:1608-1763406000-1763413200@www.cbchurchjtn.org
SUMMARY:Jamestown Community Chorus Rehearsal
DESCRIPTION:
URL:https://www.cbchurchjtn.org/event/jamestown-community-chorus-rehearsal-4/
END:VEVENT
BEGIN:VEVENT
DTSTART;TZID=America/New_York:20251117T130000
DTEND;TZID=America/New_York:20251117T140000
DTSTAMP:20260423T035947
CREATED:20251020T164625Z
LAST-MODIFIED:20251020T164625Z
UID:1562-1763384400-1763388000@www.cbchurchjtn.org
SUMMARY:Chair Yoga
DESCRIPTION:
URL:https://www.cbchurchjtn.org/event/chair-yoga-29/
END:VEVENT
BEGIN:VEVENT
DTSTART;TZID=America/New_York:20251116T103000
DTEND;TZID=America/New_York:20251116T113000
DTSTAMP:20260423T035947
CREATED:20251020T164304Z
LAST-MODIFIED:20251020T164304Z
UID:1552-1763289000-1763292600@www.cbchurchjtn.org
SUMMARY:Coffee Hour
DESCRIPTION:
URL:https://www.cbchurchjtn.org/event/coffee-hour-31/
END:VEVENT
BEGIN:VEVENT
DTSTART;TZID=America/New_York:20251116T093000
DTEND;TZID=America/New_York:20251116T103000
DTSTAMP:20260423T035947
CREATED:20251020T163855Z
LAST-MODIFIED:20251020T163855Z
UID:1540-1763285400-1763289000@www.cbchurchjtn.org
SUMMARY:Worship Service
DESCRIPTION:
URL:https://www.cbchurchjtn.org/event/worship-service-29/
END:VEVENT
BEGIN:VEVENT
DTSTART;TZID=America/New_York:20251115T130000
DTEND;TZID=America/New_York:20251115T170000
DTSTAMP:20260423T035947
CREATED:20251112T165646Z
LAST-MODIFIED:20251112T165646Z
UID:1634-1763211600-1763226000@www.cbchurchjtn.org
SUMMARY:Everybody Chorus Concert
DESCRIPTION:
URL:https://www.cbchurchjtn.org/event/everybody-chorus-concert/
END:VEVENT
BEGIN:VEVENT
DTSTART;TZID=America/New_York:20251113T083000
DTEND;TZID=America/New_York:20251113T093000
DTSTAMP:20260423T035947
CREATED:20251020T170827Z
LAST-MODIFIED:20251020T170827Z
UID:1576-1763022600-1763026200@www.cbchurchjtn.org
SUMMARY:Exercise with Us
DESCRIPTION:
URL:https://www.cbchurchjtn.org/event/exercise-with-us-64/
END:VEVENT
BEGIN:VEVENT
DTSTART;TZID=America/New_York:20251112T190000
DTEND;TZID=America/New_York:20251112T203000
DTSTAMP:20260423T035947
CREATED:20251020T173501Z
LAST-MODIFIED:20251020T173501Z
UID:1584-1762974000-1762979400@www.cbchurchjtn.org
SUMMARY:Accidental Sisters Rehearsals
DESCRIPTION:
URL:https://www.cbchurchjtn.org/event/accidental-sisters-rehearsals-7/
END:VEVENT
BEGIN:VEVENT
DTSTART;TZID=America/New_York:20251112T140000
DTEND;TZID=America/New_York:20251112T153000
DTSTAMP:20260423T035947
CREATED:20251027T173252Z
LAST-MODIFIED:20251027T173252Z
UID:1615-1762956000-1762961400@www.cbchurchjtn.org
SUMMARY:Trustee Meeting
DESCRIPTION:
URL:https://www.cbchurchjtn.org/event/trustee-meeting-5/
END:VEVENT
BEGIN:VEVENT
DTSTART;TZID=America/New_York:20251111T083000
DTEND;TZID=America/New_York:20251111T093000
DTSTAMP:20260423T035947
CREATED:20251020T170430Z
LAST-MODIFIED:20251020T170430Z
UID:1568-1762849800-1762853400@www.cbchurchjtn.org
SUMMARY:Exercise with Us
DESCRIPTION:
URL:https://www.cbchurchjtn.org/event/exercise-with-us-60/
END:VEVENT
BEGIN:VEVENT
DTSTART;TZID=America/New_York:20251110T190000
DTEND;TZID=America/New_York:20251110T210000
DTSTAMP:20260423T035947
CREATED:20251027T163507Z
LAST-MODIFIED:20251027T163507Z
UID:1606-1762801200-1762808400@www.cbchurchjtn.org
SUMMARY:Jamestown Community Chorus Rehearsal
DESCRIPTION:
URL:https://www.cbchurchjtn.org/event/jamestown-community-chorus-rehearsal-3/
END:VEVENT
BEGIN:VEVENT
DTSTART;TZID=America/New_York:20251110T130000
DTEND;TZID=America/New_York:20251110T140000
DTSTAMP:20260423T035947
CREATED:20251020T164555Z
LAST-MODIFIED:20251020T164555Z
UID:1560-1762779600-1762783200@www.cbchurchjtn.org
SUMMARY:Chair Yoga
DESCRIPTION:
URL:https://www.cbchurchjtn.org/event/chair-yoga-28/
END:VEVENT
BEGIN:VEVENT
DTSTART;TZID=America/New_York:20251109T103000
DTEND;TZID=America/New_York:20251109T113000
DTSTAMP:20260423T035947
CREATED:20251020T164241Z
LAST-MODIFIED:20251020T164241Z
UID:1550-1762684200-1762687800@www.cbchurchjtn.org
SUMMARY:Coffee Hour
DESCRIPTION:
URL:https://www.cbchurchjtn.org/event/coffee-hour-30/
END:VEVENT
BEGIN:VEVENT
DTSTART;TZID=America/New_York:20251109T093000
DTEND;TZID=America/New_York:20251109T103000
DTSTAMP:20260423T035947
CREATED:20251020T163831Z
LAST-MODIFIED:20251020T163831Z
UID:1538-1762680600-1762684200@www.cbchurchjtn.org
SUMMARY:Worship Service
DESCRIPTION:
URL:https://www.cbchurchjtn.org/event/worship-service-28/
END:VEVENT
BEGIN:VEVENT
DTSTART;TZID=America/New_York:20251106T083000
DTEND;TZID=America/New_York:20251106T093000
DTSTAMP:20260423T035947
CREATED:20251020T170755Z
LAST-MODIFIED:20251020T170755Z
UID:1574-1762417800-1762421400@www.cbchurchjtn.org
SUMMARY:Exercise with Us
DESCRIPTION:
URL:https://www.cbchurchjtn.org/event/exercise-with-us-63/
END:VEVENT
BEGIN:VEVENT
DTSTART;TZID=America/New_York:20251105T190000
DTEND;TZID=America/New_York:20251105T203000
DTSTAMP:20260423T035947
CREATED:20251020T173434Z
LAST-MODIFIED:20251020T173434Z
UID:1582-1762369200-1762374600@www.cbchurchjtn.org
SUMMARY:Accidental Sisters Rehearsals
DESCRIPTION:
URL:https://www.cbchurchjtn.org/event/accidental-sisters-rehearsals-6/
END:VEVENT
BEGIN:VEVENT
DTSTART;TZID=America/New_York:20251104T083000
DTEND;TZID=America/New_York:20251104T093000
DTSTAMP:20260423T035947
CREATED:20251020T170408Z
LAST-MODIFIED:20251020T170408Z
UID:1566-1762245000-1762248600@www.cbchurchjtn.org
SUMMARY:Exercise with Us
DESCRIPTION:
URL:https://www.cbchurchjtn.org/event/exercise-with-us-59/
END:VEVENT
BEGIN:VEVENT
DTSTART;TZID=America/New_York:20251103T190000
DTEND;TZID=America/New_York:20251103T210000
DTSTAMP:20260423T035947
CREATED:20251027T163439Z
LAST-MODIFIED:20251027T163439Z
UID:1604-1762196400-1762203600@www.cbchurchjtn.org
SUMMARY:Jamestown Community Chorus Rehearsal
DESCRIPTION:
URL:https://www.cbchurchjtn.org/event/jamestown-community-chorus-rehearsal-2/
END:VEVENT
BEGIN:VEVENT
DTSTART;TZID=America/New_York:20251103T130000
DTEND;TZID=America/New_York:20251103T140000
DTSTAMP:20260423T035947
CREATED:20251020T164531Z
LAST-MODIFIED:20251020T164531Z
UID:1558-1762174800-1762178400@www.cbchurchjtn.org
SUMMARY:Chair Yoga
DESCRIPTION:
URL:https://www.cbchurchjtn.org/event/chair-yoga-27/
END:VEVENT
BEGIN:VEVENT
DTSTART;TZID=America/New_York:20251102T103000
DTEND;TZID=America/New_York:20251102T113000
DTSTAMP:20260423T035947
CREATED:20251020T164218Z
LAST-MODIFIED:20251020T164218Z
UID:1548-1762079400-1762083000@www.cbchurchjtn.org
SUMMARY:Coffee Hour
DESCRIPTION:
URL:https://www.cbchurchjtn.org/event/coffee-hour-29/
END:VEVENT
BEGIN:VEVENT
DTSTART;TZID=America/New_York:20251102T093000
DTEND;TZID=America/New_York:20251102T103000
DTSTAMP:20260423T035947
CREATED:20251020T163807Z
LAST-MODIFIED:20251020T163807Z
UID:1536-1762075800-1762079400@www.cbchurchjtn.org
SUMMARY:Worship Service
DESCRIPTION:
URL:https://www.cbchurchjtn.org/event/worship-service-27/
END:VEVENT
BEGIN:VEVENT
DTSTART;TZID=America/New_York:20251030T083000
DTEND;TZID=America/New_York:20251030T093000
DTSTAMP:20260423T035947
CREATED:20250918T183848Z
LAST-MODIFIED:20250918T183848Z
UID:1483-1761813000-1761816600@www.cbchurchjtn.org
SUMMARY:Exercise with Us
DESCRIPTION:
URL:https://www.cbchurchjtn.org/event/exercise-with-us-58/
END:VEVENT
BEGIN:VEVENT
DTSTART;TZID=America/New_York:20251029T190000
DTEND;TZID=America/New_York:20251029T203000
DTSTAMP:20260423T035947
CREATED:20250918T184733Z
LAST-MODIFIED:20250918T184733Z
UID:1495-1761764400-1761769800@www.cbchurchjtn.org
SUMMARY:Accidental Sisters Rehearsals
DESCRIPTION:
URL:https://www.cbchurchjtn.org/event/accidental-sisters-rehearsals-5/
END:VEVENT
BEGIN:VEVENT
DTSTART;TZID=America/New_York:20251028T083000
DTEND;TZID=America/New_York:20251028T093000
DTSTAMP:20260423T035947
CREATED:20250918T183559Z
LAST-MODIFIED:20250918T183559Z
UID:1473-1761640200-1761643800@www.cbchurchjtn.org
SUMMARY:Exercise with Us
DESCRIPTION:
URL:https://www.cbchurchjtn.org/event/exercise-with-us-53/
END:VEVENT
BEGIN:VEVENT
DTSTART;TZID=America/New_York:20251027T190000
DTEND;TZID=America/New_York:20251027T210000
DTSTAMP:20260423T035947
CREATED:20251027T163407Z
LAST-MODIFIED:20251027T163407Z
UID:1602-1761591600-1761598800@www.cbchurchjtn.org
SUMMARY:Jamestown Community Chorus Rehearsal
DESCRIPTION:
URL:https://www.cbchurchjtn.org/event/jamestown-community-chorus-rehearsal/
END:VEVENT
BEGIN:VEVENT
DTSTART;TZID=America/New_York:20251027T130000
DTEND;TZID=America/New_York:20251027T140000
DTSTAMP:20260423T035947
CREATED:20250918T183156Z
LAST-MODIFIED:20250918T183156Z
UID:1464-1761570000-1761573600@www.cbchurchjtn.org
SUMMARY:Chair Yoga
DESCRIPTION:
URL:https://www.cbchurchjtn.org/event/chair-yoga-26/
END:VEVENT
BEGIN:VEVENT
DTSTART;TZID=America/New_York:20251026T103000
DTEND;TZID=America/New_York:20251026T113000
DTSTAMP:20260423T035947
CREATED:20250918T182048Z
LAST-MODIFIED:20250918T182048Z
UID:1454-1761474600-1761478200@www.cbchurchjtn.org
SUMMARY:Coffee Hour
DESCRIPTION:
URL:https://www.cbchurchjtn.org/event/coffee-hour-28/
END:VEVENT
END:VCALENDAR