BEGIN:VCALENDAR
VERSION:2.0
PRODID:-//Central Baptist Church of Jamestown - ECPv6.15.17//NONSGML v1.0//EN
CALSCALE:GREGORIAN
METHOD:PUBLISH
X-WR-CALNAME:Central Baptist Church of Jamestown
X-ORIGINAL-URL:https://www.cbchurchjtn.org
X-WR-CALDESC:Events for Central Baptist Church of Jamestown
REFRESH-INTERVAL;VALUE=DURATION:PT1H
X-Robots-Tag:noindex
X-PUBLISHED-TTL:PT1H
BEGIN:VTIMEZONE
TZID:America/New_York
BEGIN:DAYLIGHT
TZOFFSETFROM:-0500
TZOFFSETTO:-0400
TZNAME:EDT
DTSTART:20240310T070000
END:DAYLIGHT
BEGIN:STANDARD
TZOFFSETFROM:-0400
TZOFFSETTO:-0500
TZNAME:EST
DTSTART:20241103T060000
END:STANDARD
BEGIN:DAYLIGHT
TZOFFSETFROM:-0500
TZOFFSETTO:-0400
TZNAME:EDT
DTSTART:20250309T070000
END:DAYLIGHT
BEGIN:STANDARD
TZOFFSETFROM:-0400
TZOFFSETTO:-0500
TZNAME:EST
DTSTART:20251102T060000
END:STANDARD
BEGIN:DAYLIGHT
TZOFFSETFROM:-0500
TZOFFSETTO:-0400
TZNAME:EDT
DTSTART:20260308T070000
END:DAYLIGHT
BEGIN:STANDARD
TZOFFSETFROM:-0400
TZOFFSETTO:-0500
TZNAME:EST
DTSTART:20261101T060000
END:STANDARD
END:VTIMEZONE
BEGIN:VTIMEZONE
TZID:UTC
BEGIN:STANDARD
TZOFFSETFROM:+0000
TZOFFSETTO:+0000
TZNAME:UTC
DTSTART:20240101T000000
END:STANDARD
END:VTIMEZONE
BEGIN:VEVENT
DTSTART;TZID=America/New_York:20250828T083000
DTEND;TZID=America/New_York:20250828T093000
DTSTAMP:20260423T134050
CREATED:20250625T162925Z
LAST-MODIFIED:20250625T162925Z
UID:1192-1756369800-1756373400@www.cbchurchjtn.org
SUMMARY:Exercise with Us
DESCRIPTION:
URL:https://www.cbchurchjtn.org/event/exercise-with-us-40/
END:VEVENT
BEGIN:VEVENT
DTSTART;TZID=America/New_York:20250826T160000
DTEND;TZID=America/New_York:20250826T170000
DTSTAMP:20260423T134050
CREATED:20250812T180007Z
LAST-MODIFIED:20250812T180007Z
UID:1378-1756224000-1756227600@www.cbchurchjtn.org
SUMMARY:Ice Cream Social for Military Families @ Melrose School
DESCRIPTION:
URL:https://www.cbchurchjtn.org/event/ice-cream-social-for-military-families-melrose-school/
END:VEVENT
BEGIN:VEVENT
DTSTART;TZID=America/New_York:20250826T083000
DTEND;TZID=America/New_York:20250826T093000
DTSTAMP:20260423T134050
CREATED:20250625T162254Z
LAST-MODIFIED:20250625T162254Z
UID:1184-1756197000-1756200600@www.cbchurchjtn.org
SUMMARY:Exercise with Us
DESCRIPTION:
URL:https://www.cbchurchjtn.org/event/exercise-with-us-37/
END:VEVENT
BEGIN:VEVENT
DTSTART;TZID=America/New_York:20250825T130000
DTEND;TZID=America/New_York:20250825T140000
DTSTAMP:20260423T134050
CREATED:20250625T151632Z
LAST-MODIFIED:20250625T151818Z
UID:1119-1756126800-1756130400@www.cbchurchjtn.org
SUMMARY:Chair Yoga
DESCRIPTION:
URL:https://www.cbchurchjtn.org/event/chair-yoga-19/
END:VEVENT
BEGIN:VEVENT
DTSTART;TZID=America/New_York:20250824T103000
DTEND;TZID=America/New_York:20250824T113000
DTSTAMP:20260423T134050
CREATED:20250625T153656Z
LAST-MODIFIED:20250625T153656Z
UID:1138-1756031400-1756035000@www.cbchurchjtn.org
SUMMARY:Coffee Hour
DESCRIPTION:
URL:https://www.cbchurchjtn.org/event/coffee-hour-20/
END:VEVENT
BEGIN:VEVENT
DTSTART;TZID=America/New_York:20250824T093000
DTEND;TZID=America/New_York:20250824T103000
DTSTAMP:20260423T134050
CREATED:20250625T153922Z
LAST-MODIFIED:20250625T154225Z
UID:1144-1756027800-1756031400@www.cbchurchjtn.org
SUMMARY:Worship Service
DESCRIPTION:
URL:https://www.cbchurchjtn.org/event/worship-service-16/
END:VEVENT
BEGIN:VEVENT
DTSTART;TZID=America/New_York:20250821T090000
DTEND;TZID=America/New_York:20250821T100000
DTSTAMP:20260423T134050
CREATED:20250625T170257Z
LAST-MODIFIED:20250812T165807Z
UID:1200-1755766800-1755770400@www.cbchurchjtn.org
SUMMARY:Christian Education Meeting
DESCRIPTION:
URL:https://www.cbchurchjtn.org/event/christian-education-meeting-2/
END:VEVENT
BEGIN:VEVENT
DTSTART;TZID=America/New_York:20250821T083000
DTEND;TZID=America/New_York:20250821T093000
DTSTAMP:20260423T134050
CREATED:20250625T162409Z
LAST-MODIFIED:20250625T162409Z
UID:1188-1755765000-1755768600@www.cbchurchjtn.org
SUMMARY:Exercise with Us
DESCRIPTION:
URL:https://www.cbchurchjtn.org/event/exercise-with-us-39/
END:VEVENT
BEGIN:VEVENT
DTSTART;TZID=America/New_York:20250819T083000
DTEND;TZID=America/New_York:20250819T093000
DTSTAMP:20260423T134050
CREATED:20250625T162158Z
LAST-MODIFIED:20250625T162158Z
UID:1180-1755592200-1755595800@www.cbchurchjtn.org
SUMMARY:Exercise with Us
DESCRIPTION:
URL:https://www.cbchurchjtn.org/event/exercise-with-us-35/
END:VEVENT
BEGIN:VEVENT
DTSTART;TZID=America/New_York:20250818T130000
DTEND;TZID=America/New_York:20250818T140000
DTSTAMP:20260423T134050
CREATED:20250625T150448Z
LAST-MODIFIED:20250625T150448Z
UID:1115-1755522000-1755525600@www.cbchurchjtn.org
SUMMARY:Chair Yoga
DESCRIPTION:
URL:https://www.cbchurchjtn.org/event/chair-yoga-17/
END:VEVENT
BEGIN:VEVENT
DTSTART;TZID=America/New_York:20250817T110000
DTEND;TZID=America/New_York:20250817T120000
DTSTAMP:20260423T134050
CREATED:20250812T180527Z
LAST-MODIFIED:20250812T180527Z
UID:1380-1755428400-1755432000@www.cbchurchjtn.org
SUMMARY:Growth Committee Meeting
DESCRIPTION:
URL:https://www.cbchurchjtn.org/event/growth-committee-meeting-3/
END:VEVENT
BEGIN:VEVENT
DTSTART;TZID=America/New_York:20250817T103000
DTEND;TZID=America/New_York:20250817T113000
DTSTAMP:20260423T134050
CREATED:20250625T153509Z
LAST-MODIFIED:20250625T153509Z
UID:1134-1755426600-1755430200@www.cbchurchjtn.org
SUMMARY:Coffee Hour
DESCRIPTION:
URL:https://www.cbchurchjtn.org/event/coffee-hour-18/
END:VEVENT
BEGIN:VEVENT
DTSTART;TZID=America/New_York:20250817T093000
DTEND;TZID=America/New_York:20250817T103000
DTSTAMP:20260423T134050
CREATED:20250625T153851Z
LAST-MODIFIED:20250625T153851Z
UID:1142-1755423000-1755426600@www.cbchurchjtn.org
SUMMARY:Worship Service
DESCRIPTION:
URL:https://www.cbchurchjtn.org/event/worship-service-15/
END:VEVENT
BEGIN:VEVENT
DTSTART;TZID=America/New_York:20250814T083000
DTEND;TZID=America/New_York:20250814T093000
DTSTAMP:20260423T134050
CREATED:20250625T162847Z
LAST-MODIFIED:20250625T162847Z
UID:1190-1755160200-1755163800@www.cbchurchjtn.org
SUMMARY:Exercise with Us
DESCRIPTION:
URL:https://www.cbchurchjtn.org/event/exercise-with-us-36/
END:VEVENT
BEGIN:VEVENT
DTSTART;TZID=America/New_York:20250813T100000
DTEND;TZID=America/New_York:20250813T113000
DTSTAMP:20260423T134050
CREATED:20250625T170114Z
LAST-MODIFIED:20250625T170114Z
UID:1196-1755079200-1755084600@www.cbchurchjtn.org
SUMMARY:Deacon Meeting
DESCRIPTION:
URL:https://www.cbchurchjtn.org/event/deacon-meeting/
END:VEVENT
BEGIN:VEVENT
DTSTART;TZID=America/New_York:20250812T083000
DTEND;TZID=America/New_York:20250812T093000
DTSTAMP:20260423T134050
CREATED:20250625T162111Z
LAST-MODIFIED:20250625T162111Z
UID:1178-1754987400-1754991000@www.cbchurchjtn.org
SUMMARY:Exercise with Us
DESCRIPTION:
URL:https://www.cbchurchjtn.org/event/exercise-with-us-34/
END:VEVENT
BEGIN:VEVENT
DTSTART;TZID=America/New_York:20250811T130000
DTEND;TZID=America/New_York:20250811T140000
DTSTAMP:20260423T134050
CREATED:20250625T150409Z
LAST-MODIFIED:20250625T150409Z
UID:1113-1754917200-1754920800@www.cbchurchjtn.org
SUMMARY:Chair Yoga
DESCRIPTION:
URL:https://www.cbchurchjtn.org/event/chair-yoga-16/
END:VEVENT
BEGIN:VEVENT
DTSTART;TZID=America/New_York:20250810T103000
DTEND;TZID=America/New_York:20250810T113000
DTSTAMP:20260423T134050
CREATED:20250625T153439Z
LAST-MODIFIED:20250625T153439Z
UID:1132-1754821800-1754825400@www.cbchurchjtn.org
SUMMARY:Coffee Hour
DESCRIPTION:
URL:https://www.cbchurchjtn.org/event/coffee-hour-17/
END:VEVENT
BEGIN:VEVENT
DTSTART;TZID=America/New_York:20250810T093000
DTEND;TZID=America/New_York:20250810T103000
DTSTAMP:20260423T134050
CREATED:20250625T153746Z
LAST-MODIFIED:20250625T153746Z
UID:1140-1754818200-1754821800@www.cbchurchjtn.org
SUMMARY:Worship Service
DESCRIPTION:
URL:https://www.cbchurchjtn.org/event/worship-service-14/
END:VEVENT
BEGIN:VEVENT
DTSTART;TZID=America/New_York:20250807T083000
DTEND;TZID=America/New_York:20250807T093000
DTSTAMP:20260423T134050
CREATED:20250625T162342Z
LAST-MODIFIED:20250625T162342Z
UID:1186-1754555400-1754559000@www.cbchurchjtn.org
SUMMARY:Exercise with Us
DESCRIPTION:
URL:https://www.cbchurchjtn.org/event/exercise-with-us-38/
END:VEVENT
BEGIN:VEVENT
DTSTART;TZID=America/New_York:20250805T083000
DTEND;TZID=America/New_York:20250805T093000
DTSTAMP:20260423T134050
CREATED:20250625T162046Z
LAST-MODIFIED:20250625T162046Z
UID:1176-1754382600-1754386200@www.cbchurchjtn.org
SUMMARY:Exercise with Us
DESCRIPTION:
URL:https://www.cbchurchjtn.org/event/exercise-with-us-33/
END:VEVENT
BEGIN:VEVENT
DTSTART;TZID=America/New_York:20250804T130000
DTEND;TZID=America/New_York:20250804T140000
DTSTAMP:20260423T134050
CREATED:20250625T150343Z
LAST-MODIFIED:20250625T150343Z
UID:1111-1754312400-1754316000@www.cbchurchjtn.org
SUMMARY:Chair Yoga
DESCRIPTION:
URL:https://www.cbchurchjtn.org/event/chair-yoga-15/
END:VEVENT
BEGIN:VEVENT
DTSTART;TZID=America/New_York:20250803T103000
DTEND;TZID=America/New_York:20250803T113000
DTSTAMP:20260423T134050
CREATED:20250625T153409Z
LAST-MODIFIED:20250625T153409Z
UID:1130-1754217000-1754220600@www.cbchurchjtn.org
SUMMARY:Coffee Hour
DESCRIPTION:
URL:https://www.cbchurchjtn.org/event/coffee-hour-16/
END:VEVENT
BEGIN:VEVENT
DTSTART;TZID=America/New_York:20250803T093000
DTEND;TZID=America/New_York:20250803T103000
DTSTAMP:20260423T134050
CREATED:20250625T154129Z
LAST-MODIFIED:20250625T154129Z
UID:1151-1754213400-1754217000@www.cbchurchjtn.org
SUMMARY:Worship Service
DESCRIPTION:
URL:https://www.cbchurchjtn.org/event/worship-service-18/
END:VEVENT
BEGIN:VEVENT
DTSTART;TZID=America/New_York:20250731T083000
DTEND;TZID=America/New_York:20250731T093000
DTSTAMP:20260423T134050
CREATED:20250625T162011Z
LAST-MODIFIED:20250625T162011Z
UID:1174-1753950600-1753954200@www.cbchurchjtn.org
SUMMARY:Exercise with Us
DESCRIPTION:
URL:https://www.cbchurchjtn.org/event/exercise-with-us-32/
END:VEVENT
BEGIN:VEVENT
DTSTART;TZID=America/New_York:20250729T083000
DTEND;TZID=America/New_York:20250729T093000
DTSTAMP:20260423T134050
CREATED:20250625T155404Z
LAST-MODIFIED:20250625T155404Z
UID:1164-1753777800-1753781400@www.cbchurchjtn.org
SUMMARY:Exercise with Us
DESCRIPTION:
URL:https://www.cbchurchjtn.org/event/exercise-with-us-27/
END:VEVENT
BEGIN:VEVENT
DTSTART;TZID=America/New_York:20250728T130000
DTEND;TZID=America/New_York:20250728T140000
DTSTAMP:20260423T134050
CREATED:20250625T150252Z
LAST-MODIFIED:20250625T150252Z
UID:1109-1753707600-1753711200@www.cbchurchjtn.org
SUMMARY:Chair Yoga
DESCRIPTION:
URL:https://www.cbchurchjtn.org/event/chair-yoga-14/
END:VEVENT
BEGIN:VEVENT
DTSTART;TZID=America/New_York:20250727T113000
DTEND;TZID=America/New_York:20250727T120000
DTSTAMP:20260423T134050
CREATED:20250625T170202Z
LAST-MODIFIED:20250625T170202Z
UID:1198-1753615800-1753617600@www.cbchurchjtn.org
SUMMARY:Growth Committee Meeting
DESCRIPTION:
URL:https://www.cbchurchjtn.org/event/growth-committee-meeting-2/
END:VEVENT
BEGIN:VEVENT
DTSTART;TZID=America/New_York:20250727T103000
DTEND;TZID=America/New_York:20250727T113000
DTSTAMP:20260423T134050
CREATED:20250625T152320Z
LAST-MODIFIED:20250625T152320Z
UID:1128-1753612200-1753615800@www.cbchurchjtn.org
SUMMARY:Coffee Hour
DESCRIPTION:
URL:https://www.cbchurchjtn.org/event/coffee-hour-15/
END:VEVENT
BEGIN:VEVENT
DTSTART;TZID=UTC:20250727T093000
DTEND;TZID=UTC:20250727T103000
DTSTAMP:20260423T134050
CREATED:20250521T184758Z
LAST-MODIFIED:20250521T184758Z
UID:937-1753608600-1753612200@www.cbchurchjtn.org
SUMMARY:Worship Service
DESCRIPTION:
URL:https://www.cbchurchjtn.org/event/worship-service-13/
END:VEVENT
END:VCALENDAR