BEGIN:VCALENDAR
VERSION:2.0
PRODID:-//Central Baptist Church of Jamestown - ECPv6.15.17//NONSGML v1.0//EN
CALSCALE:GREGORIAN
METHOD:PUBLISH
X-ORIGINAL-URL:https://www.cbchurchjtn.org
X-WR-CALDESC:Events for Central Baptist Church of Jamestown
REFRESH-INTERVAL;VALUE=DURATION:PT1H
X-Robots-Tag:noindex
X-PUBLISHED-TTL:PT1H
BEGIN:VTIMEZONE
TZID:America/New_York
BEGIN:DAYLIGHT
TZOFFSETFROM:-0500
TZOFFSETTO:-0400
TZNAME:EDT
DTSTART:20240310T070000
END:DAYLIGHT
BEGIN:STANDARD
TZOFFSETFROM:-0400
TZOFFSETTO:-0500
TZNAME:EST
DTSTART:20241103T060000
END:STANDARD
BEGIN:DAYLIGHT
TZOFFSETFROM:-0500
TZOFFSETTO:-0400
TZNAME:EDT
DTSTART:20250309T070000
END:DAYLIGHT
BEGIN:STANDARD
TZOFFSETFROM:-0400
TZOFFSETTO:-0500
TZNAME:EST
DTSTART:20251102T060000
END:STANDARD
BEGIN:DAYLIGHT
TZOFFSETFROM:-0500
TZOFFSETTO:-0400
TZNAME:EDT
DTSTART:20260308T070000
END:DAYLIGHT
BEGIN:STANDARD
TZOFFSETFROM:-0400
TZOFFSETTO:-0500
TZNAME:EST
DTSTART:20261101T060000
END:STANDARD
END:VTIMEZONE
BEGIN:VTIMEZONE
TZID:UTC
BEGIN:STANDARD
TZOFFSETFROM:+0000
TZOFFSETTO:+0000
TZNAME:UTC
DTSTART:20240101T000000
END:STANDARD
END:VTIMEZONE
BEGIN:VEVENT
DTSTART;TZID=America/New_York:20251112T140000
DTEND;TZID=America/New_York:20251112T153000
DTSTAMP:20260422T184050
CREATED:20251027T173252Z
LAST-MODIFIED:20251027T173252Z
UID:1615-1762956000-1762961400@www.cbchurchjtn.org
SUMMARY:Trustee Meeting
DESCRIPTION:
URL:https://www.cbchurchjtn.org/event/trustee-meeting-5/
END:VEVENT
BEGIN:VEVENT
DTSTART;TZID=America/New_York:20251112T190000
DTEND;TZID=America/New_York:20251112T203000
DTSTAMP:20260422T184050
CREATED:20251020T173501Z
LAST-MODIFIED:20251020T173501Z
UID:1584-1762974000-1762979400@www.cbchurchjtn.org
SUMMARY:Accidental Sisters Rehearsals
DESCRIPTION:
URL:https://www.cbchurchjtn.org/event/accidental-sisters-rehearsals-7/
END:VEVENT
BEGIN:VEVENT
DTSTART;TZID=America/New_York:20251113T083000
DTEND;TZID=America/New_York:20251113T093000
DTSTAMP:20260422T184050
CREATED:20251020T170827Z
LAST-MODIFIED:20251020T170827Z
UID:1576-1763022600-1763026200@www.cbchurchjtn.org
SUMMARY:Exercise with Us
DESCRIPTION:
URL:https://www.cbchurchjtn.org/event/exercise-with-us-64/
END:VEVENT
BEGIN:VEVENT
DTSTART;TZID=America/New_York:20251115T130000
DTEND;TZID=America/New_York:20251115T170000
DTSTAMP:20260422T184050
CREATED:20251112T165646Z
LAST-MODIFIED:20251112T165646Z
UID:1634-1763211600-1763226000@www.cbchurchjtn.org
SUMMARY:Everybody Chorus Concert
DESCRIPTION:
URL:https://www.cbchurchjtn.org/event/everybody-chorus-concert/
END:VEVENT
BEGIN:VEVENT
DTSTART;TZID=America/New_York:20251116T093000
DTEND;TZID=America/New_York:20251116T103000
DTSTAMP:20260422T184050
CREATED:20251020T163855Z
LAST-MODIFIED:20251020T163855Z
UID:1540-1763285400-1763289000@www.cbchurchjtn.org
SUMMARY:Worship Service
DESCRIPTION:
URL:https://www.cbchurchjtn.org/event/worship-service-29/
END:VEVENT
BEGIN:VEVENT
DTSTART;TZID=America/New_York:20251116T103000
DTEND;TZID=America/New_York:20251116T113000
DTSTAMP:20260422T184050
CREATED:20251020T164304Z
LAST-MODIFIED:20251020T164304Z
UID:1552-1763289000-1763292600@www.cbchurchjtn.org
SUMMARY:Coffee Hour
DESCRIPTION:
URL:https://www.cbchurchjtn.org/event/coffee-hour-31/
END:VEVENT
BEGIN:VEVENT
DTSTART;TZID=America/New_York:20251117T130000
DTEND;TZID=America/New_York:20251117T140000
DTSTAMP:20260422T184050
CREATED:20251020T164625Z
LAST-MODIFIED:20251020T164625Z
UID:1562-1763384400-1763388000@www.cbchurchjtn.org
SUMMARY:Chair Yoga
DESCRIPTION:
URL:https://www.cbchurchjtn.org/event/chair-yoga-29/
END:VEVENT
BEGIN:VEVENT
DTSTART;TZID=America/New_York:20251117T190000
DTEND;TZID=America/New_York:20251117T210000
DTSTAMP:20260422T184050
CREATED:20251027T163533Z
LAST-MODIFIED:20251027T163533Z
UID:1608-1763406000-1763413200@www.cbchurchjtn.org
SUMMARY:Jamestown Community Chorus Rehearsal
DESCRIPTION:
URL:https://www.cbchurchjtn.org/event/jamestown-community-chorus-rehearsal-4/
END:VEVENT
BEGIN:VEVENT
DTSTART;TZID=America/New_York:20251118T083000
DTEND;TZID=America/New_York:20251118T093000
DTSTAMP:20260422T184050
CREATED:20251020T170501Z
LAST-MODIFIED:20251020T170501Z
UID:1570-1763454600-1763458200@www.cbchurchjtn.org
SUMMARY:Exercise with Us
DESCRIPTION:
URL:https://www.cbchurchjtn.org/event/exercise-with-us-61/
END:VEVENT
BEGIN:VEVENT
DTSTART;TZID=America/New_York:20251118T133000
DTEND;TZID=America/New_York:20251118T143000
DTSTAMP:20260422T184050
CREATED:20251027T173215Z
LAST-MODIFIED:20251027T173215Z
UID:1613-1763472600-1763476200@www.cbchurchjtn.org
SUMMARY:Christian Ed Meeting
DESCRIPTION:
URL:https://www.cbchurchjtn.org/event/christian-ed-meeting/
END:VEVENT
BEGIN:VEVENT
DTSTART;TZID=America/New_York:20251119T190000
DTEND;TZID=America/New_York:20251119T203000
DTSTAMP:20260422T184050
CREATED:20251020T173538Z
LAST-MODIFIED:20251020T174624Z
UID:1586-1763578800-1763584200@www.cbchurchjtn.org
SUMMARY:Accidental Sisters Rehearsals
DESCRIPTION:
URL:https://www.cbchurchjtn.org/event/accidental-sisters-rehearsals-8/
END:VEVENT
BEGIN:VEVENT
DTSTART;TZID=America/New_York:20251120T083000
DTEND;TZID=America/New_York:20251120T093000
DTSTAMP:20260422T184050
CREATED:20251020T170854Z
LAST-MODIFIED:20251020T170854Z
UID:1578-1763627400-1763631000@www.cbchurchjtn.org
SUMMARY:Exercise with Us
DESCRIPTION:
URL:https://www.cbchurchjtn.org/event/exercise-with-us-65/
END:VEVENT
BEGIN:VEVENT
DTSTART;TZID=America/New_York:20251122T100000
DTEND;TZID=America/New_York:20251122T140000
DTSTAMP:20260422T184050
CREATED:20251113T193024Z
LAST-MODIFIED:20251113T193024Z
UID:1733-1763805600-1763820000@www.cbchurchjtn.org
SUMMARY:Suicide\, Safety & Support Services
DESCRIPTION:
URL:https://www.cbchurchjtn.org/event/suicide-safety-support-services/
END:VEVENT
BEGIN:VEVENT
DTSTART;TZID=America/New_York:20251123T093000
DTEND;TZID=America/New_York:20251123T103000
DTSTAMP:20260422T184050
CREATED:20251020T163920Z
LAST-MODIFIED:20251020T163920Z
UID:1542-1763890200-1763893800@www.cbchurchjtn.org
SUMMARY:Worship Service
DESCRIPTION:
URL:https://www.cbchurchjtn.org/event/worship-service-30/
END:VEVENT
BEGIN:VEVENT
DTSTART;TZID=America/New_York:20251123T103000
DTEND;TZID=America/New_York:20251123T113000
DTSTAMP:20260422T184050
CREATED:20251020T164354Z
LAST-MODIFIED:20251020T164354Z
UID:1554-1763893800-1763897400@www.cbchurchjtn.org
SUMMARY:Coffee Hour
DESCRIPTION:
URL:https://www.cbchurchjtn.org/event/coffee-hour-32/
END:VEVENT
BEGIN:VEVENT
DTSTART;TZID=America/New_York:20251124T130000
DTEND;TZID=America/New_York:20251124T140000
DTSTAMP:20260422T184050
CREATED:20251020T164708Z
LAST-MODIFIED:20251020T170319Z
UID:1564-1763989200-1763992800@www.cbchurchjtn.org
SUMMARY:Chair Yoga
DESCRIPTION:
URL:https://www.cbchurchjtn.org/event/chair-yoga-30/
END:VEVENT
BEGIN:VEVENT
DTSTART;TZID=America/New_York:20251124T190000
DTEND;TZID=America/New_York:20251124T210000
DTSTAMP:20260422T184050
CREATED:20251027T163610Z
LAST-MODIFIED:20251027T163610Z
UID:1611-1764010800-1764018000@www.cbchurchjtn.org
SUMMARY:Jamestown Community Chorus Rehearsal
DESCRIPTION:
URL:https://www.cbchurchjtn.org/event/jamestown-community-chorus-rehearsal-5/
END:VEVENT
BEGIN:VEVENT
DTSTART;TZID=America/New_York:20251125T083000
DTEND;TZID=America/New_York:20251125T093000
DTSTAMP:20260422T184050
CREATED:20251020T170717Z
LAST-MODIFIED:20251020T170717Z
UID:1572-1764059400-1764063000@www.cbchurchjtn.org
SUMMARY:Exercise with Us
DESCRIPTION:
URL:https://www.cbchurchjtn.org/event/exercise-with-us-62/
END:VEVENT
BEGIN:VEVENT
DTSTART;TZID=America/New_York:20251130T093000
DTEND;TZID=America/New_York:20251130T103000
DTSTAMP:20260422T184050
CREATED:20251020T163940Z
LAST-MODIFIED:20251020T163940Z
UID:1544-1764495000-1764498600@www.cbchurchjtn.org
SUMMARY:Worship Service
DESCRIPTION:
URL:https://www.cbchurchjtn.org/event/worship-service-31/
END:VEVENT
BEGIN:VEVENT
DTSTART;TZID=America/New_York:20251130T103000
DTEND;TZID=America/New_York:20251130T113000
DTSTAMP:20260422T184050
CREATED:20251020T164427Z
LAST-MODIFIED:20251020T164427Z
UID:1556-1764498600-1764502200@www.cbchurchjtn.org
SUMMARY:Coffee Hour
DESCRIPTION:
URL:https://www.cbchurchjtn.org/event/coffee-hour-33/
END:VEVENT
BEGIN:VEVENT
DTSTART;TZID=America/New_York:20251203T190000
DTEND;TZID=America/New_York:20251203T203000
DTSTAMP:20260422T184050
CREATED:20251112T180539Z
LAST-MODIFIED:20251112T180539Z
UID:1708-1764788400-1764793800@www.cbchurchjtn.org
SUMMARY:Accidental Sisters Rehearsals
DESCRIPTION:
URL:https://www.cbchurchjtn.org/event/accidental-sisters-rehearsals-9/
END:VEVENT
BEGIN:VEVENT
DTSTART;TZID=UTC:20251206T090000
DTEND;TZID=UTC:20251206T130000
DTSTAMP:20260422T184050
CREATED:20250327T193708Z
LAST-MODIFIED:20250327T193708Z
UID:574-1765011600-1765026000@www.cbchurchjtn.org
SUMMARY:Christmas Fair
DESCRIPTION:Join us for our Christmas Fair
URL:https://www.cbchurchjtn.org/event/christmas-fair/
ATTACH;FMTTYPE=image/jpeg:https://www.cbchurchjtn.org/wp-content/uploads/2025/03/clarke-hall-rental3.jpg
END:VEVENT
BEGIN:VEVENT
DTSTART;TZID=America/New_York:20251207T093000
DTEND;TZID=America/New_York:20251207T103000
DTSTAMP:20260422T184050
CREATED:20251112T165807Z
LAST-MODIFIED:20251112T165807Z
UID:1636-1765099800-1765103400@www.cbchurchjtn.org
SUMMARY:Worship Service
DESCRIPTION:
URL:https://www.cbchurchjtn.org/event/worship-service-32/
END:VEVENT
BEGIN:VEVENT
DTSTART;TZID=America/New_York:20251207T103000
DTEND;TZID=America/New_York:20251207T113000
DTSTAMP:20260422T184050
CREATED:20251112T171140Z
LAST-MODIFIED:20251112T171140Z
UID:1660-1765103400-1765107000@www.cbchurchjtn.org
SUMMARY:Coffee Hour
DESCRIPTION:
URL:https://www.cbchurchjtn.org/event/coffee-hour-37/
END:VEVENT
BEGIN:VEVENT
DTSTART;TZID=America/New_York:20251208T130000
DTEND;TZID=America/New_York:20251208T140000
DTSTAMP:20260422T184050
CREATED:20251112T171308Z
LAST-MODIFIED:20251112T171308Z
UID:1664-1765198800-1765202400@www.cbchurchjtn.org
SUMMARY:Chair Yoga
DESCRIPTION:
URL:https://www.cbchurchjtn.org/event/chair-yoga-32/
END:VEVENT
BEGIN:VEVENT
DTSTART;TZID=America/New_York:20251208T190000
DTEND;TZID=America/New_York:20251208T210000
DTSTAMP:20260422T184050
CREATED:20251112T181059Z
LAST-MODIFIED:20251112T181059Z
UID:1721-1765220400-1765227600@www.cbchurchjtn.org
SUMMARY:Jamestown Community Chorus Rehearsal
DESCRIPTION:
URL:https://www.cbchurchjtn.org/event/jamestown-community-chorus-rehearsal-7/
END:VEVENT
BEGIN:VEVENT
DTSTART;TZID=America/New_York:20251209T083000
DTEND;TZID=America/New_York:20251209T093000
DTSTAMP:20260422T184050
CREATED:20251112T172622Z
LAST-MODIFIED:20251112T172622Z
UID:1680-1765269000-1765272600@www.cbchurchjtn.org
SUMMARY:Exercise with Us
DESCRIPTION:
URL:https://www.cbchurchjtn.org/event/exercise-with-us-67/
END:VEVENT
BEGIN:VEVENT
DTSTART;TZID=America/New_York:20251210T100000
DTEND;TZID=America/New_York:20251210T110000
DTSTAMP:20260422T184050
CREATED:20251119T175911Z
LAST-MODIFIED:20251208T170737Z
UID:1749-1765360800-1765364400@www.cbchurchjtn.org
SUMMARY:Deacon Meeting
DESCRIPTION:
URL:https://www.cbchurchjtn.org/event/deacon-meeting-3/
END:VEVENT
BEGIN:VEVENT
DTSTART;TZID=America/New_York:20251210T140000
DTEND;TZID=America/New_York:20251210T160000
DTSTAMP:20260422T184050
CREATED:20251119T180012Z
LAST-MODIFIED:20251119T180012Z
UID:1751-1765375200-1765382400@www.cbchurchjtn.org
SUMMARY:Trustee Meeting
DESCRIPTION:
URL:https://www.cbchurchjtn.org/event/trustee-meeting-6/
END:VEVENT
BEGIN:VEVENT
DTSTART;TZID=America/New_York:20251210T190000
DTEND;TZID=America/New_York:20251210T203000
DTSTAMP:20260422T184050
CREATED:20251112T180619Z
LAST-MODIFIED:20251112T180619Z
UID:1710-1765393200-1765398600@www.cbchurchjtn.org
SUMMARY:Accidental Sisters Rehearsals
DESCRIPTION:
URL:https://www.cbchurchjtn.org/event/accidental-sisters-rehearsals-10/
END:VEVENT
END:VCALENDAR