BEGIN:VCALENDAR
VERSION:2.0
PRODID:-//Central Baptist Church of Jamestown - ECPv6.15.17//NONSGML v1.0//EN
CALSCALE:GREGORIAN
METHOD:PUBLISH
X-WR-CALNAME:Central Baptist Church of Jamestown
X-ORIGINAL-URL:https://www.cbchurchjtn.org
X-WR-CALDESC:Events for Central Baptist Church of Jamestown
REFRESH-INTERVAL;VALUE=DURATION:PT1H
X-Robots-Tag:noindex
X-PUBLISHED-TTL:PT1H
BEGIN:VTIMEZONE
TZID:America/New_York
BEGIN:DAYLIGHT
TZOFFSETFROM:-0500
TZOFFSETTO:-0400
TZNAME:EDT
DTSTART:20240310T070000
END:DAYLIGHT
BEGIN:STANDARD
TZOFFSETFROM:-0400
TZOFFSETTO:-0500
TZNAME:EST
DTSTART:20241103T060000
END:STANDARD
BEGIN:DAYLIGHT
TZOFFSETFROM:-0500
TZOFFSETTO:-0400
TZNAME:EDT
DTSTART:20250309T070000
END:DAYLIGHT
BEGIN:STANDARD
TZOFFSETFROM:-0400
TZOFFSETTO:-0500
TZNAME:EST
DTSTART:20251102T060000
END:STANDARD
BEGIN:DAYLIGHT
TZOFFSETFROM:-0500
TZOFFSETTO:-0400
TZNAME:EDT
DTSTART:20260308T070000
END:DAYLIGHT
BEGIN:STANDARD
TZOFFSETFROM:-0400
TZOFFSETTO:-0500
TZNAME:EST
DTSTART:20261101T060000
END:STANDARD
END:VTIMEZONE
BEGIN:VTIMEZONE
TZID:UTC
BEGIN:STANDARD
TZOFFSETFROM:+0000
TZOFFSETTO:+0000
TZNAME:UTC
DTSTART:20240101T000000
END:STANDARD
END:VTIMEZONE
BEGIN:VEVENT
DTSTART;TZID=America/New_York:20250715T150000
DTEND;TZID=America/New_York:20250715T163000
DTSTAMP:20260423T174456
CREATED:20250625T165612Z
LAST-MODIFIED:20250625T165612Z
UID:1194-1752591600-1752597000@www.cbchurchjtn.org
SUMMARY:Trustee Meeting
DESCRIPTION:
URL:https://www.cbchurchjtn.org/event/trustee-meeting/
END:VEVENT
BEGIN:VEVENT
DTSTART;TZID=America/New_York:20250715T083000
DTEND;TZID=America/New_York:20250715T093000
DTSTAMP:20260423T174456
CREATED:20250625T154859Z
LAST-MODIFIED:20250625T154859Z
UID:1160-1752568200-1752571800@www.cbchurchjtn.org
SUMMARY:Exercise with Us
DESCRIPTION:
URL:https://www.cbchurchjtn.org/event/exercise-with-us-25/
END:VEVENT
BEGIN:VEVENT
DTSTART;TZID=America/New_York:20250714T130000
DTEND;TZID=America/New_York:20250714T140000
DTSTAMP:20260423T174456
CREATED:20250625T150013Z
LAST-MODIFIED:20250625T150013Z
UID:1104-1752498000-1752501600@www.cbchurchjtn.org
SUMMARY:Chair Yoga
DESCRIPTION:
URL:https://www.cbchurchjtn.org/event/chair-yoga-12/
END:VEVENT
BEGIN:VEVENT
DTSTART;TZID=America/New_York:20250713T103000
DTEND;TZID=America/New_York:20250713T113000
DTSTAMP:20260423T174456
CREATED:20250625T152141Z
LAST-MODIFIED:20250625T152141Z
UID:1124-1752402600-1752406200@www.cbchurchjtn.org
SUMMARY:Coffee Hour
DESCRIPTION:
URL:https://www.cbchurchjtn.org/event/coffee-hour-13/
END:VEVENT
BEGIN:VEVENT
DTSTART;TZID=UTC:20250713T093000
DTEND;TZID=UTC:20250713T103000
DTSTAMP:20260423T174456
CREATED:20250521T184515Z
LAST-MODIFIED:20250521T184515Z
UID:933-1752399000-1752402600@www.cbchurchjtn.org
SUMMARY:Worship Service
DESCRIPTION:
URL:https://www.cbchurchjtn.org/event/worship-service-11/
END:VEVENT
BEGIN:VEVENT
DTSTART;TZID=America/New_York:20250710T083000
DTEND;TZID=America/New_York:20250710T093000
DTSTAMP:20260423T174456
CREATED:20250625T161828Z
LAST-MODIFIED:20250625T161828Z
UID:1167-1752136200-1752139800@www.cbchurchjtn.org
SUMMARY:Exercise with Us
DESCRIPTION:
URL:https://www.cbchurchjtn.org/event/exercise-with-us-29/
END:VEVENT
BEGIN:VEVENT
DTSTART;TZID=America/New_York:20250708T083000
DTEND;TZID=America/New_York:20250708T093000
DTSTAMP:20260423T174456
CREATED:20250625T154835Z
LAST-MODIFIED:20250625T154835Z
UID:1158-1751963400-1751967000@www.cbchurchjtn.org
SUMMARY:Exercise with Us
DESCRIPTION:
URL:https://www.cbchurchjtn.org/event/exercise-with-us-24/
END:VEVENT
BEGIN:VEVENT
DTSTART;TZID=America/New_York:20250707T130000
DTEND;TZID=America/New_York:20250707T140000
DTSTAMP:20260423T174456
CREATED:20250625T145249Z
LAST-MODIFIED:20250625T170803Z
UID:1096-1751893200-1751896800@www.cbchurchjtn.org
SUMMARY:Chair Yoga
DESCRIPTION:Classes are In Person Mondays | 1:00 – 2:00 pm  with Susan. \n** Free for all Jamestown Pantry Participants and to the \nCBC congregation \n** open to all Jamestown residents for free too \n** Pre-registration appreciated at shriyoga.org  
URL:https://www.cbchurchjtn.org/event/clarke-hall-reserved-for-private-womans-group/
END:VEVENT
BEGIN:VEVENT
DTSTART;TZID=America/New_York:20250706T103000
DTEND;TZID=America/New_York:20250706T113000
DTSTAMP:20260423T174456
CREATED:20250625T152117Z
LAST-MODIFIED:20250625T152117Z
UID:1122-1751797800-1751801400@www.cbchurchjtn.org
SUMMARY:Coffee Hour
DESCRIPTION:
URL:https://www.cbchurchjtn.org/event/coffee-hour-12/
END:VEVENT
BEGIN:VEVENT
DTSTART;TZID=UTC:20250706T093000
DTEND;TZID=UTC:20250706T103000
DTSTAMP:20260423T174456
CREATED:20250521T184357Z
LAST-MODIFIED:20250521T184357Z
UID:931-1751794200-1751797800@www.cbchurchjtn.org
SUMMARY:Worship Service
DESCRIPTION:
URL:https://www.cbchurchjtn.org/event/worship-service-10/
END:VEVENT
BEGIN:VEVENT
DTSTART;TZID=America/New_York:20250703T083000
DTEND;TZID=America/New_York:20250703T093000
DTSTAMP:20260423T174456
CREATED:20250625T161809Z
LAST-MODIFIED:20250625T161809Z
UID:1166-1751531400-1751535000@www.cbchurchjtn.org
SUMMARY:Exercise with Us
DESCRIPTION:
URL:https://www.cbchurchjtn.org/event/exercise-with-us-28/
END:VEVENT
BEGIN:VEVENT
DTSTART;TZID=America/New_York:20250701T083000
DTEND;TZID=America/New_York:20250701T093000
DTSTAMP:20260423T174456
CREATED:20250625T154815Z
LAST-MODIFIED:20250625T170617Z
UID:1156-1751358600-1751362200@www.cbchurchjtn.org
SUMMARY:Exercise with Us
DESCRIPTION:Fun group meets on Tuesdays & Thursdays at 8:30 to 9:30 at Clarke Hall. We use various exercise videos appropriate for all levels. We start with a gentle warm-up\, walk about two miles\, then cool down\, followed by gentle stretches. Sometimes we use light weights and floor mats (provided).
URL:https://www.cbchurchjtn.org/event/exercise-with-us-23/
END:VEVENT
BEGIN:VEVENT
DTSTART;TZID=UTC:20250630T130000
DTEND;TZID=UTC:20250630T140000
DTSTAMP:20260423T174456
CREATED:20250520T193822Z
LAST-MODIFIED:20250520T193822Z
UID:909-1751288400-1751292000@www.cbchurchjtn.org
SUMMARY:Chair Yoga
DESCRIPTION:
URL:https://www.cbchurchjtn.org/event/chair-yoga-11/
END:VEVENT
BEGIN:VEVENT
DTSTART;TZID=UTC:20250629T103000
DTEND;TZID=UTC:20250629T113000
DTSTAMP:20260423T174456
CREATED:20250519T230444Z
LAST-MODIFIED:20250519T230444Z
UID:891-1751193000-1751196600@www.cbchurchjtn.org
SUMMARY:Coffee Hour
DESCRIPTION:
URL:https://www.cbchurchjtn.org/event/coffee-hour-11/
END:VEVENT
BEGIN:VEVENT
DTSTART;TZID=UTC:20250629T093000
DTEND;TZID=UTC:20250629T103000
DTSTAMP:20260423T174456
CREATED:20250519T223224Z
LAST-MODIFIED:20250519T223224Z
UID:881-1751189400-1751193000@www.cbchurchjtn.org
SUMMARY:Worship Service
DESCRIPTION:
URL:https://www.cbchurchjtn.org/event/worship-service-9/
END:VEVENT
BEGIN:VEVENT
DTSTART;TZID=UTC:20250626T083000
DTEND;TZID=UTC:20250626T093000
DTSTAMP:20260423T174456
CREATED:20250520T195719Z
LAST-MODIFIED:20250520T195719Z
UID:923-1750926600-1750930200@www.cbchurchjtn.org
SUMMARY:Exercise with Us
DESCRIPTION:
URL:https://www.cbchurchjtn.org/event/exercise-with-us-21/
END:VEVENT
BEGIN:VEVENT
DTSTART;TZID=America/New_York:20250625T180000
DTEND;TZID=America/New_York:20250625T200000
DTSTAMP:20260423T174456
CREATED:20250625T145932Z
LAST-MODIFIED:20250625T145932Z
UID:1102-1750874400-1750881600@www.cbchurchjtn.org
SUMMARY:Clarke Hall Reserved for Private Woman's Group
DESCRIPTION:
URL:https://www.cbchurchjtn.org/event/clarke-hall-reserved-for-private-womans-group-2/
END:VEVENT
BEGIN:VEVENT
DTSTART;TZID=UTC:20250624T083000
DTEND;TZID=UTC:20250624T093000
DTSTAMP:20260423T174456
CREATED:20250520T195819Z
LAST-MODIFIED:20250520T195819Z
UID:925-1750753800-1750757400@www.cbchurchjtn.org
SUMMARY:Exercise with Us
DESCRIPTION:
URL:https://www.cbchurchjtn.org/event/exercise-with-us-22/
END:VEVENT
BEGIN:VEVENT
DTSTART;TZID=UTC:20250623T130000
DTEND;TZID=UTC:20250623T140000
DTSTAMP:20260423T174456
CREATED:20250520T193528Z
LAST-MODIFIED:20250520T193528Z
UID:907-1750683600-1750687200@www.cbchurchjtn.org
SUMMARY:Chair Yoga
DESCRIPTION:
URL:https://www.cbchurchjtn.org/event/chair-yoga-10/
END:VEVENT
BEGIN:VEVENT
DTSTART;TZID=UTC:20250622T103000
DTEND;TZID=UTC:20250622T113000
DTSTAMP:20260423T174456
CREATED:20250519T230414Z
LAST-MODIFIED:20250519T230414Z
UID:889-1750588200-1750591800@www.cbchurchjtn.org
SUMMARY:Coffee Hour
DESCRIPTION:
URL:https://www.cbchurchjtn.org/event/coffee-hour-10/
END:VEVENT
BEGIN:VEVENT
DTSTART;TZID=UTC:20250622T093000
DTEND;TZID=UTC:20250622T103000
DTSTAMP:20260423T174456
CREATED:20250519T222932Z
LAST-MODIFIED:20250519T222932Z
UID:879-1750584600-1750588200@www.cbchurchjtn.org
SUMMARY:Worship Service
DESCRIPTION:
URL:https://www.cbchurchjtn.org/event/worship-service-8/
END:VEVENT
BEGIN:VEVENT
DTSTART;TZID=UTC:20250619T083000
DTEND;TZID=UTC:20250619T093000
DTSTAMP:20260423T174456
CREATED:20250520T195651Z
LAST-MODIFIED:20250520T195651Z
UID:921-1750321800-1750325400@www.cbchurchjtn.org
SUMMARY:Exercise with Us
DESCRIPTION:
URL:https://www.cbchurchjtn.org/event/exercise-with-us-20/
END:VEVENT
BEGIN:VEVENT
DTSTART;TZID=UTC:20250617T083000
DTEND;TZID=UTC:20250617T093000
DTSTAMP:20260423T174456
CREATED:20250520T195503Z
LAST-MODIFIED:20250520T195503Z
UID:915-1750149000-1750152600@www.cbchurchjtn.org
SUMMARY:Exercise with Us
DESCRIPTION:
URL:https://www.cbchurchjtn.org/event/exercise-with-us-17/
END:VEVENT
BEGIN:VEVENT
DTSTART;TZID=UTC:20250616T130000
DTEND;TZID=UTC:20250616T140000
DTSTAMP:20260423T174456
CREATED:20250520T193442Z
LAST-MODIFIED:20250520T193442Z
UID:905-1750078800-1750082400@www.cbchurchjtn.org
SUMMARY:Chair Yoga
DESCRIPTION:
URL:https://www.cbchurchjtn.org/event/chair-yoga-9/
END:VEVENT
BEGIN:VEVENT
DTSTART;TZID=UTC:20250615T103000
DTEND;TZID=UTC:20250615T113000
DTSTAMP:20260423T174456
CREATED:20250519T230335Z
LAST-MODIFIED:20250519T230335Z
UID:887-1749983400-1749987000@www.cbchurchjtn.org
SUMMARY:Coffee Hour
DESCRIPTION:
URL:https://www.cbchurchjtn.org/event/coffee-hour-9/
END:VEVENT
BEGIN:VEVENT
DTSTART;TZID=UTC:20250615T093000
DTEND;TZID=UTC:20250615T103000
DTSTAMP:20260423T174456
CREATED:20250519T222856Z
LAST-MODIFIED:20250519T222856Z
UID:877-1749979800-1749983400@www.cbchurchjtn.org
SUMMARY:Worship Service
DESCRIPTION:
URL:https://www.cbchurchjtn.org/event/worship-service-7/
END:VEVENT
BEGIN:VEVENT
DTSTART;TZID=UTC:20250612T083000
DTEND;TZID=UTC:20250612T093000
DTSTAMP:20260423T174456
CREATED:20250520T195624Z
LAST-MODIFIED:20250520T195624Z
UID:919-1749717000-1749720600@www.cbchurchjtn.org
SUMMARY:Exercise with Us
DESCRIPTION:
URL:https://www.cbchurchjtn.org/event/exercise-with-us-19/
END:VEVENT
BEGIN:VEVENT
DTSTART;TZID=UTC:20250610T083000
DTEND;TZID=UTC:20250610T093000
DTSTAMP:20260423T174456
CREATED:20250520T195413Z
LAST-MODIFIED:20250520T195413Z
UID:913-1749544200-1749547800@www.cbchurchjtn.org
SUMMARY:Exercise with Us
DESCRIPTION:
URL:https://www.cbchurchjtn.org/event/exercise-with-us-16/
END:VEVENT
BEGIN:VEVENT
DTSTART;TZID=UTC:20250609T130000
DTEND;TZID=UTC:20250609T140000
DTSTAMP:20260423T174456
CREATED:20250520T193403Z
LAST-MODIFIED:20250520T193403Z
UID:903-1749474000-1749477600@www.cbchurchjtn.org
SUMMARY:Chair Yoga
DESCRIPTION:
URL:https://www.cbchurchjtn.org/event/chair-yoga-8/
END:VEVENT
BEGIN:VEVENT
DTSTART;TZID=UTC:20250608T103000
DTEND;TZID=UTC:20250608T113000
DTSTAMP:20260423T174456
CREATED:20250519T225636Z
LAST-MODIFIED:20250519T225636Z
UID:885-1749378600-1749382200@www.cbchurchjtn.org
SUMMARY:Coffee Hour
DESCRIPTION:
URL:https://www.cbchurchjtn.org/event/coffee-hour-8/
END:VEVENT
END:VCALENDAR