BEGIN:VCALENDAR
VERSION:2.0
PRODID:-//Central Baptist Church of Jamestown - ECPv6.15.17//NONSGML v1.0//EN
CALSCALE:GREGORIAN
METHOD:PUBLISH
X-WR-CALNAME:Central Baptist Church of Jamestown
X-ORIGINAL-URL:https://www.cbchurchjtn.org
X-WR-CALDESC:Events for Central Baptist Church of Jamestown
REFRESH-INTERVAL;VALUE=DURATION:PT1H
X-Robots-Tag:noindex
X-PUBLISHED-TTL:PT1H
BEGIN:VTIMEZONE
TZID:UTC
BEGIN:STANDARD
TZOFFSETFROM:+0000
TZOFFSETTO:+0000
TZNAME:UTC
DTSTART:20240101T000000
END:STANDARD
END:VTIMEZONE
BEGIN:VEVENT
DTSTART;TZID=UTC:20250522T083000
DTEND;TZID=UTC:20250522T093000
DTSTAMP:20260424T033546
CREATED:20250506T204338Z
LAST-MODIFIED:20250506T204338Z
UID:706-1747902600-1747906200@www.cbchurchjtn.org
SUMMARY:Exercise with Us
DESCRIPTION:
URL:https://www.cbchurchjtn.org/event/exercise-with-us-12/
END:VEVENT
BEGIN:VEVENT
DTSTART;TZID=UTC:20250522T083000
DTEND;TZID=UTC:20250522T093000
DTSTAMP:20260424T033546
CREATED:20250505T212146Z
LAST-MODIFIED:20250506T194451Z
UID:687-1747902600-1747906200@www.cbchurchjtn.org
SUMMARY:Exercise with Us
DESCRIPTION:
URL:https://www.cbchurchjtn.org/event/exercise-with-us-10/
END:VEVENT
BEGIN:VEVENT
DTSTART;TZID=UTC:20250520T083000
DTEND;TZID=UTC:20250520T093000
DTSTAMP:20260424T033546
CREATED:20250506T204247Z
LAST-MODIFIED:20250506T204247Z
UID:704-1747729800-1747733400@www.cbchurchjtn.org
SUMMARY:Exercise with Us
DESCRIPTION:
URL:https://www.cbchurchjtn.org/event/exercise-with-us-11/
END:VEVENT
BEGIN:VEVENT
DTSTART;TZID=UTC:20250520T083000
DTEND;TZID=UTC:20250520T093000
DTSTAMP:20260424T033546
CREATED:20250505T212108Z
LAST-MODIFIED:20250505T212108Z
UID:685-1747729800-1747733400@www.cbchurchjtn.org
SUMMARY:Exercise with Us
DESCRIPTION:
URL:https://www.cbchurchjtn.org/event/exercise-with-us-9/
END:VEVENT
BEGIN:VEVENT
DTSTART;TZID=UTC:20250519T130000
DTEND;TZID=UTC:20250519T140000
DTSTAMP:20260424T033546
CREATED:20250506T212121Z
LAST-MODIFIED:20250506T212121Z
UID:745-1747659600-1747663200@www.cbchurchjtn.org
SUMMARY:Chair Yoga
DESCRIPTION:
URL:https://www.cbchurchjtn.org/event/chair-yoga-6/
END:VEVENT
BEGIN:VEVENT
DTSTART;TZID=UTC:20250518T103000
DTEND;TZID=UTC:20250518T113000
DTSTAMP:20260424T033546
CREATED:20250506T211347Z
LAST-MODIFIED:20250506T212008Z
UID:736-1747564200-1747567800@www.cbchurchjtn.org
SUMMARY:Coffee Hour
DESCRIPTION:
URL:https://www.cbchurchjtn.org/event/coffee-hour-5/
END:VEVENT
BEGIN:VEVENT
DTSTART;TZID=UTC:20250518T093000
DTEND;TZID=UTC:20250518T103000
DTSTAMP:20260424T033546
CREATED:20250506T204736Z
LAST-MODIFIED:20250506T205148Z
UID:715-1747560600-1747564200@www.cbchurchjtn.org
SUMMARY:Worship Service
DESCRIPTION:
URL:https://www.cbchurchjtn.org/event/chair-yoga-5/
END:VEVENT
BEGIN:VEVENT
DTSTART;TZID=UTC:20250515T083000
DTEND;TZID=UTC:20250515T093000
DTSTAMP:20260424T033546
CREATED:20250505T212016Z
LAST-MODIFIED:20250505T212016Z
UID:683-1747297800-1747301400@www.cbchurchjtn.org
SUMMARY:Exercise with Us
DESCRIPTION:
URL:https://www.cbchurchjtn.org/event/exercise-with-us-8/
END:VEVENT
BEGIN:VEVENT
DTSTART;TZID=UTC:20250513T083000
DTEND;TZID=UTC:20250513T093000
DTSTAMP:20260424T033546
CREATED:20250505T211837Z
LAST-MODIFIED:20250505T211837Z
UID:681-1747125000-1747128600@www.cbchurchjtn.org
SUMMARY:Exercise with Us
DESCRIPTION:
URL:https://www.cbchurchjtn.org/event/exercise-with-us-7/
END:VEVENT
BEGIN:VEVENT
DTSTART;TZID=UTC:20250512T130000
DTEND;TZID=UTC:20250512T140000
DTSTAMP:20260424T033546
CREATED:20250506T204704Z
LAST-MODIFIED:20250506T204704Z
UID:713-1747054800-1747058400@www.cbchurchjtn.org
SUMMARY:Chair Yoga
DESCRIPTION:
URL:https://www.cbchurchjtn.org/event/chair-yoga-4/
END:VEVENT
BEGIN:VEVENT
DTSTART;TZID=UTC:20250511T103000
DTEND;TZID=UTC:20250511T113000
DTSTAMP:20260424T033546
CREATED:20250506T205917Z
LAST-MODIFIED:20250506T211829Z
UID:728-1746959400-1746963000@www.cbchurchjtn.org
SUMMARY:Coffee Hour
DESCRIPTION:
URL:https://www.cbchurchjtn.org/event/coffee-hour-4/
END:VEVENT
BEGIN:VEVENT
DTSTART;TZID=UTC:20250511T093000
DTEND;TZID=UTC:20250511T103000
DTSTAMP:20260424T033546
CREATED:20250506T205726Z
LAST-MODIFIED:20250506T205726Z
UID:726-1746955800-1746959400@www.cbchurchjtn.org
SUMMARY:Worship Service
DESCRIPTION:
URL:https://www.cbchurchjtn.org/event/worship-service-4/
END:VEVENT
BEGIN:VEVENT
DTSTART;TZID=UTC:20250508T083000
DTEND;TZID=UTC:20250508T093000
DTSTAMP:20260424T033546
CREATED:20250505T211621Z
LAST-MODIFIED:20250505T211709Z
UID:677-1746693000-1746696600@www.cbchurchjtn.org
SUMMARY:Exercise with Us
DESCRIPTION:
URL:https://www.cbchurchjtn.org/event/exercise-with-us-5/
END:VEVENT
BEGIN:VEVENT
DTSTART;TZID=UTC:20250506T083000
DTEND;TZID=UTC:20250506T093000
DTSTAMP:20260424T033546
CREATED:20250505T211758Z
LAST-MODIFIED:20250505T211936Z
UID:679-1746520200-1746523800@www.cbchurchjtn.org
SUMMARY:Exercise with Us
DESCRIPTION:
URL:https://www.cbchurchjtn.org/event/exercise-with-us-6/
END:VEVENT
BEGIN:VEVENT
DTSTART;TZID=UTC:20250504T093000
DTEND;TZID=UTC:20250504T103000
DTSTAMP:20260424T033546
CREATED:20250506T205542Z
LAST-MODIFIED:20250506T205542Z
UID:723-1746351000-1746354600@www.cbchurchjtn.org
SUMMARY:Worship Service
DESCRIPTION:
URL:https://www.cbchurchjtn.org/event/worship-service-3/
END:VEVENT
BEGIN:VEVENT
DTSTART;TZID=UTC:20250420T093000
DTEND;TZID=UTC:20250420T103000
DTSTAMP:20260424T033546
CREATED:20250327T200204Z
LAST-MODIFIED:20250327T200204Z
UID:589-1745141400-1745145000@www.cbchurchjtn.org
SUMMARY:Easter Sunday Service
DESCRIPTION:-Easter Sunday Service\, “He Is Not Here; He Has Risen.” \nSunday\, April 20\, 9:30 AM at Central Baptist Church
URL:https://www.cbchurchjtn.org/event/easter-sunday-service/
END:VEVENT
BEGIN:VEVENT
DTSTART;TZID=UTC:20250420T060000
DTEND;TZID=UTC:20250420T070000
DTSTAMP:20260424T033546
CREATED:20250327T195055Z
LAST-MODIFIED:20250327T195222Z
UID:583-1745128800-1745132400@www.cbchurchjtn.org
SUMMARY:Easter Sunrise Service at Beavertail
DESCRIPTION:-Easter Sunrise Service\, “Discover the Empty Tomb” \nSunday\, April 20\, 6:00 AM at Beavertail State Park\, Jamestown\, RI
URL:https://www.cbchurchjtn.org/event/easter-sunrise-service/
END:VEVENT
BEGIN:VEVENT
DTSTART;TZID=UTC:20250417T190000
DTEND;TZID=UTC:20250417T210000
DTSTAMP:20260424T033546
CREATED:20250327T194329Z
LAST-MODIFIED:20250327T194329Z
UID:576-1744916400-1744923600@www.cbchurchjtn.org
SUMMARY:Maundy Thursday Service
DESCRIPTION:-Maundy Thursday Service\, “Light into Darkness\,”  \nJoin us for a traditional Tenebrae Service. \nThursday April 17\, 7:00 PM at Central Baptist Church.
URL:https://www.cbchurchjtn.org/event/maundy-thursday-service/
END:VEVENT
BEGIN:VEVENT
DTSTART;TZID=UTC:20250415T180000
DTEND;TZID=UTC:20250415T200000
DTSTAMP:20260424T033546
CREATED:20250327T195948Z
LAST-MODIFIED:20250327T195948Z
UID:586-1744740000-1744747200@www.cbchurchjtn.org
SUMMARY:Clarke Hall Rented
DESCRIPTION:From 6-8 pm Clarke Hall in use
URL:https://www.cbchurchjtn.org/event/clarke-hall-rented/
END:VEVENT
BEGIN:VEVENT
DTSTART;TZID=UTC:20250413T093000
DTEND;TZID=UTC:20250413T103000
DTSTAMP:20260424T033546
CREATED:20250327T194621Z
LAST-MODIFIED:20250327T194621Z
UID:581-1744536600-1744540200@www.cbchurchjtn.org
SUMMARY:Palm Sunday
DESCRIPTION:–Palm Sunday\, “The Pilgrimage Begins” \nJoin with us as Jesus’ entry into Jerusalem is celebrated. \n“Hosannah in the highest!” \nSunday\, April 13\, 2025 9:30-10:30 at Central Baptist Church
URL:https://www.cbchurchjtn.org/event/palm-sunday/
END:VEVENT
BEGIN:VEVENT
DTSTART;TZID=UTC:20250410T180000
DTEND;TZID=UTC:20250410T190000
DTSTAMP:20260424T033546
CREATED:20250327T194445Z
LAST-MODIFIED:20250327T194445Z
UID:578-1744308000-1744311600@www.cbchurchjtn.org
SUMMARY:Night Vigil
DESCRIPTION:–Night Vigil\, “Listening at the Cross” \nJoin us for an evening repast and prayer service for Lent. \nThursday\, April 10\, 2025   6:00-700 PM at Central Baptist Church
URL:https://www.cbchurchjtn.org/event/night-vigil/
END:VEVENT
BEGIN:VEVENT
DTSTART;TZID=UTC:20250406T103000
DTEND;TZID=UTC:20250406T233000
DTSTAMP:20260424T033546
CREATED:20250317T143013Z
LAST-MODIFIED:20250327T192402Z
UID:335-1743935400-1743982200@www.cbchurchjtn.org
SUMMARY:Coffee Hour
DESCRIPTION:Join us for coffee\, snacks and conversation every Sunday at 10:30am.
URL:https://www.cbchurchjtn.org/event/coffee-hour-3/
END:VEVENT
BEGIN:VEVENT
DTSTART;TZID=UTC:20250406T000000
DTEND;TZID=UTC:20250406T000000
DTSTAMP:20260424T033546
CREATED:20250317T182103Z
LAST-MODIFIED:20250327T193002Z
UID:320-1743897600-1743897600@www.cbchurchjtn.org
SUMMARY:Worship Service with Communion
DESCRIPTION:Worship Service with Communion* 9:30 a.m. \n*Following Communion\, children accompany their teacher to their Sunday School classroom. \nCommunion is only the 1st Sunday of every month. \n 
URL:https://www.cbchurchjtn.org/event/worship-service-with-communion/
END:VEVENT
BEGIN:VEVENT
DTSTART;TZID=UTC:20250331T130000
DTEND;TZID=UTC:20250331T140000
DTSTAMP:20260424T033546
CREATED:20250317T181148Z
LAST-MODIFIED:20250323T155954Z
UID:309-1743426000-1743429600@www.cbchurchjtn.org
SUMMARY:Chair Yoga
DESCRIPTION:Community Chair Yoga meets from 1:00-2:00 p.m. in Clarke Hall on Mondays with instructor Susan. Pre-registration for this free program is appreciated at shriyoga.org.
URL:https://www.cbchurchjtn.org/event/chair-yoga-3/
END:VEVENT
BEGIN:VEVENT
DTSTART;TZID=UTC:20250330T103000
DTEND;TZID=UTC:20250330T113000
DTSTAMP:20260424T033546
CREATED:20250317T183722Z
LAST-MODIFIED:20250317T183722Z
UID:333-1743330600-1743334200@www.cbchurchjtn.org
SUMMARY:Coffee Hour
DESCRIPTION:Join us for coffee\, snacks and conversation every Sunday at 10:30am.
URL:https://www.cbchurchjtn.org/event/coffee-hour-2/
END:VEVENT
BEGIN:VEVENT
DTSTART;TZID=UTC:20250330T093000
DTEND;TZID=UTC:20250330T103000
DTSTAMP:20260424T033546
CREATED:20250317T183026Z
LAST-MODIFIED:20250317T183205Z
UID:326-1743327000-1743330600@www.cbchurchjtn.org
SUMMARY:Alumni Sunday Worship Service
DESCRIPTION:Alumni Sunday Worship Service \n*Following Communion\, children accompany their teacher to their Sunday School classroom.
URL:https://www.cbchurchjtn.org/event/alumni-sunday-worship-service/
ATTACH;FMTTYPE=image/jpeg:https://www.cbchurchjtn.org/wp-content/uploads/2025/03/alum-sun-sm.jpg
END:VEVENT
BEGIN:VEVENT
DTSTART;TZID=UTC:20250327T083000
DTEND;TZID=UTC:20250327T093000
DTSTAMP:20260424T033546
CREATED:20250317T181715Z
LAST-MODIFIED:20250317T181715Z
UID:318-1743064200-1743067800@www.cbchurchjtn.org
SUMMARY:Exercise With Us
DESCRIPTION:Exercise With Us
URL:https://www.cbchurchjtn.org/event/exercise-with-us-4/
END:VEVENT
BEGIN:VEVENT
DTSTART;TZID=UTC:20250325T083000
DTEND;TZID=UTC:20250325T093000
DTSTAMP:20260424T033546
CREATED:20250317T181548Z
LAST-MODIFIED:20250317T181548Z
UID:313-1742891400-1742895000@www.cbchurchjtn.org
SUMMARY:Exercise With Us
DESCRIPTION:Exercise With Us
URL:https://www.cbchurchjtn.org/event/exercise-with-us-2/
END:VEVENT
BEGIN:VEVENT
DTSTART;TZID=UTC:20250324T130000
DTEND;TZID=UTC:20250324T140000
DTSTAMP:20260424T033546
CREATED:20250317T180956Z
LAST-MODIFIED:20250317T180956Z
UID:305-1742821200-1742824800@www.cbchurchjtn.org
SUMMARY:Chair Yoga
DESCRIPTION:Chair Yoga
URL:https://www.cbchurchjtn.org/event/chair-yoga/
END:VEVENT
BEGIN:VEVENT
DTSTART;TZID=UTC:20250323T103000
DTEND;TZID=UTC:20250323T113000
DTSTAMP:20260424T033546
CREATED:20250317T183605Z
LAST-MODIFIED:20250317T183824Z
UID:331-1742725800-1742729400@www.cbchurchjtn.org
SUMMARY:Coffee Hour
DESCRIPTION:Join us for coffee\, snacks and conversation every Sunday at 10:30am.
URL:https://www.cbchurchjtn.org/event/coffee-hour/
END:VEVENT
END:VCALENDAR