BEGIN:VCALENDAR
VERSION:2.0
PRODID:-//Central Baptist Church of Jamestown - ECPv6.15.17//NONSGML v1.0//EN
CALSCALE:GREGORIAN
METHOD:PUBLISH
X-WR-CALNAME:Central Baptist Church of Jamestown
X-ORIGINAL-URL:https://www.cbchurchjtn.org
X-WR-CALDESC:Events for Central Baptist Church of Jamestown
REFRESH-INTERVAL;VALUE=DURATION:PT1H
X-Robots-Tag:noindex
X-PUBLISHED-TTL:PT1H
BEGIN:VTIMEZONE
TZID:UTC
BEGIN:STANDARD
TZOFFSETFROM:+0000
TZOFFSETTO:+0000
TZNAME:UTC
DTSTART:20240101T000000
END:STANDARD
END:VTIMEZONE
BEGIN:VEVENT
DTSTART;TZID=UTC:20250318T083000
DTEND;TZID=UTC:20250318T093000
DTSTAMP:20260424T141724
CREATED:20250317T181436Z
LAST-MODIFIED:20250317T181436Z
UID:311-1742286600-1742290200@www.cbchurchjtn.org
SUMMARY:Exercise With Us
DESCRIPTION:Exercise With Us
URL:https://www.cbchurchjtn.org/event/exercise-with-us/
END:VEVENT
BEGIN:VEVENT
DTSTART;TZID=UTC:20250317T130000
DTEND;TZID=UTC:20250317T140000
DTSTAMP:20260424T141724
CREATED:20250317T181054Z
LAST-MODIFIED:20250317T181054Z
UID:307-1742216400-1742220000@www.cbchurchjtn.org
SUMMARY:Chair Yoga
DESCRIPTION:Chair Yoga
URL:https://www.cbchurchjtn.org/event/chair-yoga-2/
END:VEVENT
END:VCALENDAR