BEGIN:VCALENDAR
VERSION:2.0
PRODID:-//Central Baptist Church of Jamestown - ECPv6.15.17//NONSGML v1.0//EN
CALSCALE:GREGORIAN
METHOD:PUBLISH
X-WR-CALNAME:Central Baptist Church of Jamestown
X-ORIGINAL-URL:https://www.cbchurchjtn.org
X-WR-CALDESC:Events for Central Baptist Church of Jamestown
REFRESH-INTERVAL;VALUE=DURATION:PT1H
X-Robots-Tag:noindex
X-PUBLISHED-TTL:PT1H
BEGIN:VTIMEZONE
TZID:America/New_York
BEGIN:DAYLIGHT
TZOFFSETFROM:-0500
TZOFFSETTO:-0400
TZNAME:EDT
DTSTART:20250309T070000
END:DAYLIGHT
BEGIN:STANDARD
TZOFFSETFROM:-0400
TZOFFSETTO:-0500
TZNAME:EST
DTSTART:20251102T060000
END:STANDARD
BEGIN:DAYLIGHT
TZOFFSETFROM:-0500
TZOFFSETTO:-0400
TZNAME:EDT
DTSTART:20260308T070000
END:DAYLIGHT
BEGIN:STANDARD
TZOFFSETFROM:-0400
TZOFFSETTO:-0500
TZNAME:EST
DTSTART:20261101T060000
END:STANDARD
BEGIN:DAYLIGHT
TZOFFSETFROM:-0500
TZOFFSETTO:-0400
TZNAME:EDT
DTSTART:20270314T070000
END:DAYLIGHT
BEGIN:STANDARD
TZOFFSETFROM:-0400
TZOFFSETTO:-0500
TZNAME:EST
DTSTART:20271107T060000
END:STANDARD
END:VTIMEZONE
BEGIN:VEVENT
DTSTART;TZID=America/New_York:20260416T083000
DTEND;TZID=America/New_York:20260416T093000
DTSTAMP:20260422T180618
CREATED:20260219T192627Z
LAST-MODIFIED:20260219T192627Z
UID:2079-1776328200-1776331800@www.cbchurchjtn.org
SUMMARY:Exercise with Us
DESCRIPTION:
URL:https://www.cbchurchjtn.org/event/exercise-with-us-103/
END:VEVENT
BEGIN:VEVENT
DTSTART;TZID=America/New_York:20260415T190000
DTEND;TZID=America/New_York:20260415T203000
DTSTAMP:20260422T180618
CREATED:20260219T193537Z
LAST-MODIFIED:20260219T193537Z
UID:2087-1776279600-1776285000@www.cbchurchjtn.org
SUMMARY:Accidental Sisters Rehearsals
DESCRIPTION:
URL:https://www.cbchurchjtn.org/event/accidental-sisters-rehearsals-18/
END:VEVENT
BEGIN:VEVENT
DTSTART;TZID=America/New_York:20260414T083000
DTEND;TZID=America/New_York:20260414T093000
DTSTAMP:20260422T180618
CREATED:20260219T190931Z
LAST-MODIFIED:20260219T190931Z
UID:2069-1776155400-1776159000@www.cbchurchjtn.org
SUMMARY:Exercise with Us
DESCRIPTION:
URL:https://www.cbchurchjtn.org/event/exercise-with-us-98/
END:VEVENT
BEGIN:VEVENT
DTSTART;TZID=America/New_York:20260413T190000
DTEND;TZID=America/New_York:20260413T210000
DTSTAMP:20260422T180618
CREATED:20260219T190713Z
LAST-MODIFIED:20260219T190713Z
UID:2061-1776106800-1776114000@www.cbchurchjtn.org
SUMMARY:Jamestown Community Chorus Rehearsal
DESCRIPTION:
URL:https://www.cbchurchjtn.org/event/jamestown-community-chorus-rehearsal-20/
END:VEVENT
BEGIN:VEVENT
DTSTART;TZID=America/New_York:20260413T150000
DTEND;TZID=America/New_York:20260413T170000
DTSTAMP:20260422T180618
CREATED:20260326T163842Z
LAST-MODIFIED:20260326T163842Z
UID:2169-1776092400-1776099600@www.cbchurchjtn.org
SUMMARY:Mahjongg Group
DESCRIPTION:
URL:https://www.cbchurchjtn.org/event/mahjongg-group-8/
END:VEVENT
BEGIN:VEVENT
DTSTART;TZID=America/New_York:20260413T130000
DTEND;TZID=America/New_York:20260413T140000
DTSTAMP:20260422T180618
CREATED:20260219T190222Z
LAST-MODIFIED:20260219T190222Z
UID:2053-1776085200-1776088800@www.cbchurchjtn.org
SUMMARY:Chair Yoga
DESCRIPTION:
URL:https://www.cbchurchjtn.org/event/chair-yoga-49/
END:VEVENT
BEGIN:VEVENT
DTSTART;TZID=America/New_York:20260412T093000
DTEND;TZID=America/New_York:20260412T103000
DTSTAMP:20260422T180618
CREATED:20260219T185852Z
LAST-MODIFIED:20260219T185852Z
UID:2045-1775986200-1775989800@www.cbchurchjtn.org
SUMMARY:Worship Service
DESCRIPTION:
URL:https://www.cbchurchjtn.org/event/worship-service-50/
END:VEVENT
BEGIN:VEVENT
DTSTART;TZID=America/New_York:20260409T083000
DTEND;TZID=America/New_York:20260409T093000
DTSTAMP:20260422T180618
CREATED:20260219T192554Z
LAST-MODIFIED:20260219T192554Z
UID:2077-1775723400-1775727000@www.cbchurchjtn.org
SUMMARY:Exercise with Us
DESCRIPTION:
URL:https://www.cbchurchjtn.org/event/exercise-with-us-102/
END:VEVENT
BEGIN:VEVENT
DTSTART;TZID=America/New_York:20260408T190000
DTEND;TZID=America/New_York:20260408T203000
DTSTAMP:20260422T180618
CREATED:20260219T193452Z
LAST-MODIFIED:20260219T193452Z
UID:2085-1775674800-1775680200@www.cbchurchjtn.org
SUMMARY:Accidental Sisters Rehearsals
DESCRIPTION:
URL:https://www.cbchurchjtn.org/event/accidental-sisters-rehearsals-17/
END:VEVENT
BEGIN:VEVENT
DTSTART;TZID=America/New_York:20260407T083000
DTEND;TZID=America/New_York:20260407T093000
DTSTAMP:20260422T180618
CREATED:20260219T190846Z
LAST-MODIFIED:20260219T190846Z
UID:2067-1775550600-1775554200@www.cbchurchjtn.org
SUMMARY:Exercise with Us
DESCRIPTION:
URL:https://www.cbchurchjtn.org/event/exercise-with-us-97/
END:VEVENT
BEGIN:VEVENT
DTSTART;TZID=America/New_York:20260406T190000
DTEND;TZID=America/New_York:20260406T210000
DTSTAMP:20260422T180618
CREATED:20260219T190640Z
LAST-MODIFIED:20260219T190640Z
UID:2059-1775502000-1775509200@www.cbchurchjtn.org
SUMMARY:Jamestown Community Chorus Rehearsal
DESCRIPTION:
URL:https://www.cbchurchjtn.org/event/jamestown-community-chorus-rehearsal-19/
END:VEVENT
BEGIN:VEVENT
DTSTART;TZID=America/New_York:20260406T150000
DTEND;TZID=America/New_York:20260406T170000
DTSTAMP:20260422T180618
CREATED:20260326T163823Z
LAST-MODIFIED:20260326T163823Z
UID:2167-1775487600-1775494800@www.cbchurchjtn.org
SUMMARY:Mahjongg Group
DESCRIPTION:
URL:https://www.cbchurchjtn.org/event/mahjongg-group-7/
END:VEVENT
BEGIN:VEVENT
DTSTART;TZID=America/New_York:20260406T130000
DTEND;TZID=America/New_York:20260406T140000
DTSTAMP:20260422T180618
CREATED:20260219T190144Z
LAST-MODIFIED:20260219T190144Z
UID:2051-1775480400-1775484000@www.cbchurchjtn.org
SUMMARY:Chair Yoga
DESCRIPTION:
URL:https://www.cbchurchjtn.org/event/chair-yoga-48/
END:VEVENT
BEGIN:VEVENT
DTSTART;TZID=America/New_York:20260405T093000
DTEND;TZID=America/New_York:20260405T103000
DTSTAMP:20260422T180618
CREATED:20260219T185822Z
LAST-MODIFIED:20260219T185822Z
UID:2043-1775381400-1775385000@www.cbchurchjtn.org
SUMMARY:Easter Worship Service
DESCRIPTION:
URL:https://www.cbchurchjtn.org/event/easter-worship-service/
END:VEVENT
BEGIN:VEVENT
DTSTART;TZID=America/New_York:20260405T061000
DTEND;TZID=America/New_York:20260405T070000
DTSTAMP:20260422T180618
CREATED:20260317T162720Z
LAST-MODIFIED:20260317T162720Z
UID:2129-1775369400-1775372400@www.cbchurchjtn.org
SUMMARY:Sunrise Service at Beavertail
DESCRIPTION:
URL:https://www.cbchurchjtn.org/event/sunrise-service-at-beavertail/
END:VEVENT
BEGIN:VEVENT
DTSTART;TZID=America/New_York:20260402T183000
DTEND;TZID=America/New_York:20260402T200000
DTSTAMP:20260422T180618
CREATED:20260317T162610Z
LAST-MODIFIED:20260317T162610Z
UID:2127-1775154600-1775160000@www.cbchurchjtn.org
SUMMARY:Maundy Thursday Service
DESCRIPTION:
URL:https://www.cbchurchjtn.org/event/maundy-thursday-service-2/
END:VEVENT
BEGIN:VEVENT
DTSTART;TZID=America/New_York:20260402T083000
DTEND;TZID=America/New_York:20260402T093000
DTSTAMP:20260422T180618
CREATED:20260219T192450Z
LAST-MODIFIED:20260219T192450Z
UID:2075-1775118600-1775122200@www.cbchurchjtn.org
SUMMARY:Exercise with Us
DESCRIPTION:
URL:https://www.cbchurchjtn.org/event/exercise-with-us-101/
END:VEVENT
BEGIN:VEVENT
DTSTART;TZID=America/New_York:20260331T083000
DTEND;TZID=America/New_York:20260331T093000
DTSTAMP:20260422T180618
CREATED:20260209T171055Z
LAST-MODIFIED:20260209T171055Z
UID:1997-1774945800-1774949400@www.cbchurchjtn.org
SUMMARY:Exercise with Us
DESCRIPTION:
URL:https://www.cbchurchjtn.org/event/exercise-with-us-92/
END:VEVENT
BEGIN:VEVENT
DTSTART;TZID=America/New_York:20260330T190000
DTEND;TZID=America/New_York:20260330T210000
DTSTAMP:20260422T180618
CREATED:20260209T185410Z
LAST-MODIFIED:20260209T185410Z
UID:2022-1774897200-1774904400@www.cbchurchjtn.org
SUMMARY:Jamestown Community Chorus Rehearsal
DESCRIPTION:
URL:https://www.cbchurchjtn.org/event/jamestown-community-chorus-rehearsal-18/
END:VEVENT
BEGIN:VEVENT
DTSTART;TZID=America/New_York:20260330T150000
DTEND;TZID=America/New_York:20260330T170000
DTSTAMP:20260422T180618
CREATED:20260213T161751Z
LAST-MODIFIED:20260213T161751Z
UID:2035-1774882800-1774890000@www.cbchurchjtn.org
SUMMARY:Mahjongg Group
DESCRIPTION:
URL:https://www.cbchurchjtn.org/event/mahjongg-group-6/
END:VEVENT
BEGIN:VEVENT
DTSTART;TZID=America/New_York:20260330T130000
DTEND;TZID=America/New_York:20260330T140000
DTSTAMP:20260422T180618
CREATED:20260202T175324Z
LAST-MODIFIED:20260202T175324Z
UID:1961-1774875600-1774879200@www.cbchurchjtn.org
SUMMARY:Chair Yoga
DESCRIPTION:
URL:https://www.cbchurchjtn.org/event/chair-yoga-47/
END:VEVENT
BEGIN:VEVENT
DTSTART;TZID=America/New_York:20260329T093000
DTEND;TZID=America/New_York:20260329T103000
DTSTAMP:20260422T180618
CREATED:20260202T180446Z
LAST-MODIFIED:20260202T180446Z
UID:1972-1774776600-1774780200@www.cbchurchjtn.org
SUMMARY:Worship Service
DESCRIPTION:
URL:https://www.cbchurchjtn.org/event/worship-service-48/
END:VEVENT
BEGIN:VEVENT
DTSTART;TZID=America/New_York:20260326T130000
DTEND;TZID=America/New_York:20260326T150000
DTSTAMP:20260422T180618
CREATED:20260219T184824Z
LAST-MODIFIED:20260219T184824Z
UID:2040-1774530000-1774537200@www.cbchurchjtn.org
SUMMARY:Little Dresses
DESCRIPTION:
URL:https://www.cbchurchjtn.org/event/little-dresses-3/
END:VEVENT
BEGIN:VEVENT
DTSTART;TZID=America/New_York:20260326T083000
DTEND;TZID=America/New_York:20260326T093000
DTSTAMP:20260422T180618
CREATED:20260209T181200Z
LAST-MODIFIED:20260209T181200Z
UID:2008-1774513800-1774517400@www.cbchurchjtn.org
SUMMARY:Exercise with Us
DESCRIPTION:
URL:https://www.cbchurchjtn.org/event/exercise-with-us-96/
END:VEVENT
BEGIN:VEVENT
DTSTART;TZID=America/New_York:20260325T190000
DTEND;TZID=America/New_York:20260325T203000
DTSTAMP:20260422T180618
CREATED:20260202T180932Z
LAST-MODIFIED:20260202T180932Z
UID:1982-1774465200-1774470600@www.cbchurchjtn.org
SUMMARY:Accidental Sisters Rehearsals
DESCRIPTION:
URL:https://www.cbchurchjtn.org/event/accidental-sisters-rehearsals-16/
END:VEVENT
BEGIN:VEVENT
DTSTART;TZID=America/New_York:20260324T083000
DTEND;TZID=America/New_York:20260324T093000
DTSTAMP:20260422T180618
CREATED:20260209T170934Z
LAST-MODIFIED:20260209T170934Z
UID:1995-1774341000-1774344600@www.cbchurchjtn.org
SUMMARY:Exercise with Us
DESCRIPTION:
URL:https://www.cbchurchjtn.org/event/exercise-with-us-91/
END:VEVENT
BEGIN:VEVENT
DTSTART;TZID=America/New_York:20260323T190000
DTEND;TZID=America/New_York:20260323T210000
DTSTAMP:20260422T180618
CREATED:20260209T185208Z
LAST-MODIFIED:20260209T185208Z
UID:2018-1774292400-1774299600@www.cbchurchjtn.org
SUMMARY:Jamestown Community Chorus Rehearsal
DESCRIPTION:
URL:https://www.cbchurchjtn.org/event/jamestown-community-chorus-rehearsal-16/
END:VEVENT
BEGIN:VEVENT
DTSTART;TZID=America/New_York:20260323T150000
DTEND;TZID=America/New_York:20260323T170000
DTSTAMP:20260422T180618
CREATED:20260213T161728Z
LAST-MODIFIED:20260213T161728Z
UID:2033-1774278000-1774285200@www.cbchurchjtn.org
SUMMARY:Mahjongg Group
DESCRIPTION:
URL:https://www.cbchurchjtn.org/event/mahjongg-group-5/
END:VEVENT
BEGIN:VEVENT
DTSTART;TZID=America/New_York:20260323T130000
DTEND;TZID=America/New_York:20260323T150000
DTSTAMP:20260422T180618
CREATED:20260202T175247Z
LAST-MODIFIED:20260202T175247Z
UID:1959-1774270800-1774278000@www.cbchurchjtn.org
SUMMARY:Chair Yoga
DESCRIPTION:
URL:https://www.cbchurchjtn.org/event/chair-yoga-46/
END:VEVENT
BEGIN:VEVENT
DTSTART;TZID=America/New_York:20260322T093000
DTEND;TZID=America/New_York:20260322T103000
DTSTAMP:20260422T180618
CREATED:20260202T180403Z
LAST-MODIFIED:20260202T180403Z
UID:1970-1774171800-1774175400@www.cbchurchjtn.org
SUMMARY:Worship Service
DESCRIPTION:
URL:https://www.cbchurchjtn.org/event/worship-service-47/
END:VEVENT
END:VCALENDAR