BEGIN:VCALENDAR
VERSION:2.0
PRODID:-//Central Baptist Church of Jamestown - ECPv6.15.17//NONSGML v1.0//EN
CALSCALE:GREGORIAN
METHOD:PUBLISH
X-WR-CALNAME:Central Baptist Church of Jamestown
X-ORIGINAL-URL:https://www.cbchurchjtn.org
X-WR-CALDESC:Events for Central Baptist Church of Jamestown
REFRESH-INTERVAL;VALUE=DURATION:PT1H
X-Robots-Tag:noindex
X-PUBLISHED-TTL:PT1H
BEGIN:VTIMEZONE
TZID:America/New_York
BEGIN:DAYLIGHT
TZOFFSETFROM:-0500
TZOFFSETTO:-0400
TZNAME:EDT
DTSTART:20250309T070000
END:DAYLIGHT
BEGIN:STANDARD
TZOFFSETFROM:-0400
TZOFFSETTO:-0500
TZNAME:EST
DTSTART:20251102T060000
END:STANDARD
BEGIN:DAYLIGHT
TZOFFSETFROM:-0500
TZOFFSETTO:-0400
TZNAME:EDT
DTSTART:20260308T070000
END:DAYLIGHT
BEGIN:STANDARD
TZOFFSETFROM:-0400
TZOFFSETTO:-0500
TZNAME:EST
DTSTART:20261101T060000
END:STANDARD
BEGIN:DAYLIGHT
TZOFFSETFROM:-0500
TZOFFSETTO:-0400
TZNAME:EDT
DTSTART:20270314T070000
END:DAYLIGHT
BEGIN:STANDARD
TZOFFSETFROM:-0400
TZOFFSETTO:-0500
TZNAME:EST
DTSTART:20271107T060000
END:STANDARD
END:VTIMEZONE
BEGIN:VEVENT
DTSTART;TZID=America/New_York:20260224T130000
DTEND;TZID=America/New_York:20260224T150000
DTSTAMP:20260422T210836
CREATED:20260202T171923Z
LAST-MODIFIED:20260202T171923Z
UID:1940-1771938000-1771945200@www.cbchurchjtn.org
SUMMARY:Sewing Class
DESCRIPTION:
URL:https://www.cbchurchjtn.org/event/sewing-class-4/
END:VEVENT
BEGIN:VEVENT
DTSTART;TZID=America/New_York:20260224T083000
DTEND;TZID=America/New_York:20260224T093000
DTSTAMP:20260422T210836
CREATED:20260120T181420Z
LAST-MODIFIED:20260120T181420Z
UID:1850-1771921800-1771925400@www.cbchurchjtn.org
SUMMARY:Exercise with Us
DESCRIPTION:
URL:https://www.cbchurchjtn.org/event/exercise-with-us-82/
END:VEVENT
BEGIN:VEVENT
DTSTART;TZID=America/New_York:20260223T190000
DTEND;TZID=America/New_York:20260223T210000
DTSTAMP:20260422T210836
CREATED:20260129T185023Z
LAST-MODIFIED:20260129T185023Z
UID:1930-1771873200-1771880400@www.cbchurchjtn.org
SUMMARY:Jamestown Community Chorus Rehearsal
DESCRIPTION:
URL:https://www.cbchurchjtn.org/event/jamestown-community-chorus-rehearsal-13/
END:VEVENT
BEGIN:VEVENT
DTSTART;TZID=America/New_York:20260223T150000
DTEND;TZID=America/New_York:20260223T170000
DTSTAMP:20260422T210836
CREATED:20260213T161556Z
LAST-MODIFIED:20260213T161556Z
UID:2026-1771858800-1771866000@www.cbchurchjtn.org
SUMMARY:Mahjongg Group
DESCRIPTION:
URL:https://www.cbchurchjtn.org/event/mahjongg-group-2/
END:VEVENT
BEGIN:VEVENT
DTSTART;TZID=America/New_York:20260223T130000
DTEND;TZID=America/New_York:20260223T140000
DTSTAMP:20260422T210836
CREATED:20260120T181254Z
LAST-MODIFIED:20260120T181254Z
UID:1844-1771851600-1771855200@www.cbchurchjtn.org
SUMMARY:Chair Yoga
DESCRIPTION:
URL:https://www.cbchurchjtn.org/event/chair-yoga-42/
END:VEVENT
BEGIN:VEVENT
DTSTART;TZID=America/New_York:20260222T093000
DTEND;TZID=America/New_York:20260222T103000
DTSTAMP:20260422T210836
CREATED:20260120T180142Z
LAST-MODIFIED:20260120T180142Z
UID:1836-1771752600-1771756200@www.cbchurchjtn.org
SUMMARY:Worship Service
DESCRIPTION:
URL:https://www.cbchurchjtn.org/event/worship-service-43/
END:VEVENT
BEGIN:VEVENT
DTSTART;TZID=America/New_York:20260219T170000
DTEND;TZID=America/New_York:20260219T200000
DTSTAMP:20260422T210836
CREATED:20260209T170534Z
LAST-MODIFIED:20260209T170616Z
UID:1986-1771520400-1771531200@www.cbchurchjtn.org
SUMMARY:JURP Pot-Luck Supper
DESCRIPTION:
URL:https://www.cbchurchjtn.org/event/jurp/
END:VEVENT
BEGIN:VEVENT
DTSTART;TZID=America/New_York:20260219T083000
DTEND;TZID=America/New_York:20260219T093000
DTSTAMP:20260422T210836
CREATED:20260120T181612Z
LAST-MODIFIED:20260120T181612Z
UID:1858-1771489800-1771493400@www.cbchurchjtn.org
SUMMARY:Exercise with Us
DESCRIPTION:
URL:https://www.cbchurchjtn.org/event/exercise-with-us-86/
END:VEVENT
BEGIN:VEVENT
DTSTART;TZID=America/New_York:20260217T130000
DTEND;TZID=America/New_York:20260217T150000
DTSTAMP:20260422T210836
CREATED:20260202T171724Z
LAST-MODIFIED:20260202T171724Z
UID:1938-1771333200-1771340400@www.cbchurchjtn.org
SUMMARY:Sewing Class
DESCRIPTION:
URL:https://www.cbchurchjtn.org/event/sewing-class-3/
END:VEVENT
BEGIN:VEVENT
DTSTART;TZID=America/New_York:20260217T083000
DTEND;TZID=America/New_York:20260217T093000
DTSTAMP:20260422T210836
CREATED:20260120T181448Z
LAST-MODIFIED:20260120T181448Z
UID:1852-1771317000-1771320600@www.cbchurchjtn.org
SUMMARY:Exercise with Us
DESCRIPTION:
URL:https://www.cbchurchjtn.org/event/exercise-with-us-83/
END:VEVENT
BEGIN:VEVENT
DTSTART;TZID=America/New_York:20260216T190000
DTEND;TZID=America/New_York:20260216T210000
DTSTAMP:20260422T210836
CREATED:20260129T183943Z
LAST-MODIFIED:20260129T183943Z
UID:1926-1771268400-1771275600@www.cbchurchjtn.org
SUMMARY:Jamestown Community Chorus Rehearsal
DESCRIPTION:
URL:https://www.cbchurchjtn.org/event/jamestown-community-chorus-rehearsal-12/
END:VEVENT
BEGIN:VEVENT
DTSTART;TZID=America/New_York:20260216T150000
DTEND;TZID=America/New_York:20260216T170000
DTSTAMP:20260422T210836
CREATED:20260213T161528Z
LAST-MODIFIED:20260213T161528Z
UID:2024-1771254000-1771261200@www.cbchurchjtn.org
SUMMARY:Mahjongg Group
DESCRIPTION:
URL:https://www.cbchurchjtn.org/event/mahjongg-group/
END:VEVENT
BEGIN:VEVENT
DTSTART;TZID=America/New_York:20260216T130000
DTEND;TZID=America/New_York:20260216T140000
DTSTAMP:20260422T210836
CREATED:20260120T181224Z
LAST-MODIFIED:20260120T181224Z
UID:1842-1771246800-1771250400@www.cbchurchjtn.org
SUMMARY:Chair Yoga
DESCRIPTION:
URL:https://www.cbchurchjtn.org/event/chair-yoga-41/
END:VEVENT
BEGIN:VEVENT
DTSTART;TZID=America/New_York:20260215T093000
DTEND;TZID=America/New_York:20260215T103000
DTSTAMP:20260422T210836
CREATED:20260120T180006Z
LAST-MODIFIED:20260120T180006Z
UID:1834-1771147800-1771151400@www.cbchurchjtn.org
SUMMARY:Worship Service
DESCRIPTION:
URL:https://www.cbchurchjtn.org/event/worship-service-42/
END:VEVENT
BEGIN:VEVENT
DTSTART;TZID=America/New_York:20260212T083000
DTEND;TZID=America/New_York:20260212T093000
DTSTAMP:20260422T210836
CREATED:20260120T181538Z
LAST-MODIFIED:20260120T181538Z
UID:1856-1770885000-1770888600@www.cbchurchjtn.org
SUMMARY:Exercise with Us
DESCRIPTION:
URL:https://www.cbchurchjtn.org/event/exercise-with-us-85/
END:VEVENT
BEGIN:VEVENT
DTSTART;TZID=America/New_York:20260211T190000
DTEND;TZID=America/New_York:20260211T203000
DTSTAMP:20260422T210836
CREATED:20251112T180802Z
LAST-MODIFIED:20251112T180802Z
UID:1713-1770836400-1770841800@www.cbchurchjtn.org
SUMMARY:Accidental Sisters Rehearsals
DESCRIPTION:
URL:https://www.cbchurchjtn.org/event/accidental-sisters-rehearsals-11/
END:VEVENT
BEGIN:VEVENT
DTSTART;TZID=America/New_York:20260210T130000
DTEND;TZID=America/New_York:20260210T150000
DTSTAMP:20260422T210836
CREATED:20260202T171642Z
LAST-MODIFIED:20260202T171642Z
UID:1936-1770728400-1770735600@www.cbchurchjtn.org
SUMMARY:Sewing Class
DESCRIPTION:
URL:https://www.cbchurchjtn.org/event/sewing-class-2/
END:VEVENT
BEGIN:VEVENT
DTSTART;TZID=America/New_York:20260210T083000
DTEND;TZID=America/New_York:20260210T093000
DTSTAMP:20260422T210836
CREATED:20260120T181401Z
LAST-MODIFIED:20260120T181401Z
UID:1848-1770712200-1770715800@www.cbchurchjtn.org
SUMMARY:Exercise with Us
DESCRIPTION:
URL:https://www.cbchurchjtn.org/event/exercise-with-us-81/
END:VEVENT
BEGIN:VEVENT
DTSTART;TZID=America/New_York:20260209T190000
DTEND;TZID=America/New_York:20260209T210000
DTSTAMP:20260422T210836
CREATED:20260129T183903Z
LAST-MODIFIED:20260129T183903Z
UID:1924-1770663600-1770670800@www.cbchurchjtn.org
SUMMARY:Jamestown Community Chorus Rehearsal
DESCRIPTION:
URL:https://www.cbchurchjtn.org/event/jamestown-community-chorus-rehearsal-11/
END:VEVENT
BEGIN:VEVENT
DTSTART;TZID=America/New_York:20260209T140000
DTEND;TZID=America/New_York:20260209T160000
DTSTAMP:20260422T210836
CREATED:20260202T172629Z
LAST-MODIFIED:20260202T172629Z
UID:1945-1770645600-1770652800@www.cbchurchjtn.org
SUMMARY:Knitting Class
DESCRIPTION:
URL:https://www.cbchurchjtn.org/event/knitting-class/
END:VEVENT
BEGIN:VEVENT
DTSTART;TZID=America/New_York:20260209T130000
DTEND;TZID=America/New_York:20260209T140000
DTSTAMP:20260422T210836
CREATED:20260120T181156Z
LAST-MODIFIED:20260120T181156Z
UID:1840-1770642000-1770645600@www.cbchurchjtn.org
SUMMARY:Chair Yoga
DESCRIPTION:
URL:https://www.cbchurchjtn.org/event/chair-yoga-40/
END:VEVENT
BEGIN:VEVENT
DTSTART;TZID=America/New_York:20260208T093000
DTEND;TZID=America/New_York:20260208T103000
DTSTAMP:20260422T210836
CREATED:20260120T172851Z
LAST-MODIFIED:20260120T172851Z
UID:1832-1770543000-1770546600@www.cbchurchjtn.org
SUMMARY:Worship Service
DESCRIPTION:
URL:https://www.cbchurchjtn.org/event/worship-service-41/
END:VEVENT
BEGIN:VEVENT
DTSTART;TZID=America/New_York:20260205T083000
DTEND;TZID=America/New_York:20260205T093000
DTSTAMP:20260422T210836
CREATED:20260120T181515Z
LAST-MODIFIED:20260120T181515Z
UID:1854-1770280200-1770283800@www.cbchurchjtn.org
SUMMARY:Exercise with Us
DESCRIPTION:
URL:https://www.cbchurchjtn.org/event/exercise-with-us-84/
END:VEVENT
BEGIN:VEVENT
DTSTART;TZID=America/New_York:20260204T190000
DTEND;TZID=America/New_York:20260204T203000
DTSTAMP:20260422T210836
CREATED:20251112T180926Z
LAST-MODIFIED:20251112T180926Z
UID:1717-1770231600-1770237000@www.cbchurchjtn.org
SUMMARY:Accidental Sisters Rehearsals
DESCRIPTION:
URL:https://www.cbchurchjtn.org/event/accidental-sisters-rehearsals-13/
END:VEVENT
BEGIN:VEVENT
DTSTART;TZID=America/New_York:20260203T083000
DTEND;TZID=America/New_York:20260203T093000
DTSTAMP:20260422T210836
CREATED:20260120T181339Z
LAST-MODIFIED:20260120T181339Z
UID:1846-1770107400-1770111000@www.cbchurchjtn.org
SUMMARY:Exercise with Us
DESCRIPTION:
URL:https://www.cbchurchjtn.org/event/exercise-with-us-80/
END:VEVENT
BEGIN:VEVENT
DTSTART;TZID=America/New_York:20260202T130000
DTEND;TZID=America/New_York:20260202T140000
DTSTAMP:20260422T210836
CREATED:20260120T181121Z
LAST-MODIFIED:20260120T181121Z
UID:1838-1770037200-1770040800@www.cbchurchjtn.org
SUMMARY:Chair Yoga
DESCRIPTION:
URL:https://www.cbchurchjtn.org/event/chair-yoga-39/
END:VEVENT
BEGIN:VEVENT
DTSTART;TZID=America/New_York:20260201T093000
DTEND;TZID=America/New_York:20260201T103000
DTSTAMP:20260422T210836
CREATED:20260120T172811Z
LAST-MODIFIED:20260120T172811Z
UID:1830-1769938200-1769941800@www.cbchurchjtn.org
SUMMARY:Worship Service
DESCRIPTION:
URL:https://www.cbchurchjtn.org/event/worship-service-40/
END:VEVENT
BEGIN:VEVENT
DTSTART;TZID=America/New_York:20260131T200000
DTEND;TZID=America/New_York:20260131T210000
DTSTAMP:20260422T210836
CREATED:20251204T183841Z
LAST-MODIFIED:20251204T184505Z
UID:1764-1769889600-1769893200@www.cbchurchjtn.org
SUMMARY:Candlelight Concert Experiences
DESCRIPTION:Our shows typically take place on Friday or Saturday evenings\, with the possibility of two sittings per night if demand is high. Each sitting is one hour.\nWe partner with spectacular locations across in the U.K and U.S to deliver truly enchanting candlelit\, musical experiences. With 500+ successful concerts to date.
URL:https://www.cbchurchjtn.org/event/candle-light-concert-2/
END:VEVENT
BEGIN:VEVENT
DTSTART;TZID=America/New_York:20260131T180000
DTEND;TZID=America/New_York:20260131T190000
DTSTAMP:20260422T210836
CREATED:20251204T182824Z
LAST-MODIFIED:20251204T184603Z
UID:1762-1769882400-1769886000@www.cbchurchjtn.org
SUMMARY:Candlelight Concert Experiences
DESCRIPTION:Our shows typically take place on Friday or Saturday evenings\, with the possibility of two sittings per night if demand is high. Each sitting is one hour.\n\nWe partner with spectacular locations across in the U.K and U.S to deliver truly enchanting candlelit\, musical experiences. With 500+ successful concerts to date.
URL:https://www.cbchurchjtn.org/event/candle-light-concert/
END:VEVENT
BEGIN:VEVENT
DTSTART;TZID=America/New_York:20260131T103000
DTEND;TZID=America/New_York:20260131T143000
DTSTAMP:20260422T210836
CREATED:20251119T175227Z
LAST-MODIFIED:20251119T175227Z
UID:1747-1769855400-1769869800@www.cbchurchjtn.org
SUMMARY:Accidental Sisters Rehearsal
DESCRIPTION:
URL:https://www.cbchurchjtn.org/event/accidental-sisters-rehearsal/
END:VEVENT
END:VCALENDAR